BEGIN:VCALENDAR
VERSION:2.0
PRODID:-//Seknd Nature - ECPv6.15.14//NONSGML v1.0//EN
CALSCALE:GREGORIAN
METHOD:PUBLISH
X-WR-CALNAME:Seknd Nature
X-ORIGINAL-URL:https://sekndnature.com
X-WR-CALDESC:Events for Seknd Nature
REFRESH-INTERVAL;VALUE=DURATION:PT1H
X-Robots-Tag:noindex
X-PUBLISHED-TTL:PT1H
BEGIN:VTIMEZONE
TZID:Africa/Johannesburg
BEGIN:STANDARD
TZOFFSETFROM:+0200
TZOFFSETTO:+0200
TZNAME:SAST
DTSTART:20250101T000000
END:STANDARD
END:VTIMEZONE
BEGIN:VEVENT
DTSTART;TZID=Africa/Johannesburg:20260125T150000
DTEND;TZID=Africa/Johannesburg:20260125T193000
DTSTAMP:20260424T004037
CREATED:20260116T123108Z
LAST-MODIFIED:20260116T152442Z
UID:145463-1769353200-1769369400@sekndnature.com
SUMMARY:Strain Society — Plattekloof (VIP Guided Tasting)
DESCRIPTION:Sunday\, 25 January 2026 • 15:00–17:00Seknd Nature PlattekloofMembers: R150 (pay on arrival) • Very limited seating \nWhat you’ll walk out with\nA clear sense of which cultivars suit you—and how to choose intentionally next time (focus\, daytime clarity\, social ease\, deep unwind). This is the fastest way to stop guessing and start matching effect to occasion. \nThe ritual\nStrain Society is our guided tasting ritual—part education\, part discovery\, all community. We slow things down\, decode terpenes\, compare cultivars side-by-side\, and vote for Strain of the Night. \nThis session (Plattekloof VIP edition)\n\nThree fresh cultivars making their Plattekloof debut\nHosted by Charlie — Seknd Nature Head Tester (yes\, the chemical-engineer one)\nStructured flight: aroma → flavour → effect\, with palate resets and comparative notes\nOpen Q&A: learn how to read what your senses are telling you\, in real time\n\nWhat you get\n\nA guided flight of 3 cultivars (A/B/C)\nTasting scorecard + aroma wheel (so you can track patterns and preferences)\nPalate cleansers + water\nCommunity vote for Strain of the Night + a small prize for one lucky taster\nRecommendations tailored to your goals (so you can shop smarter afterwards)\n\nRun of show\n\n14:45 Check-in\n15:00 Method + Terpenes 101 (how to note properly)\n15:15 Guided flight (A/B/C) + comparative discussion\n16:15 Open lounge: questions\, retastes\, recommendations\n16:50 Vote + wrap\n17:00 Close\n\nTickets & RSVP\nMembers: R150How it works: RSVP to secure your seat\, pay on arrival (card/cash). Capacity is capped by design. \n[RSVP — Save My Seat] \nWho it’s for\nCurious newcomers\, seasoned connoisseurs\, and anyone who wants to match effect to occasion—without wasting time (or money) on guesswork. \nHouse rules\n\nPrivate\, membership-only environment. 18+ with ID.\nThis is a curated tasting + education session—please arrive 10–15 minutes early.\nConsumption is on-site only; plan transport accordingly.\n\nVenue\nSeknd Nature PlattekloofComfortable lounge setting\, great airflow\, attentive hosts\, and the signature Seknd Nature service.
URL:https://sekndnature.com/event/strain-society-plattekloof-vip-guided-tasting/
LOCATION:Western cape
END:VEVENT
END:VCALENDAR