BEGIN:VCALENDAR
VERSION:2.0
PRODID:-//Seknd Nature - ECPv6.15.14//NONSGML v1.0//EN
CALSCALE:GREGORIAN
METHOD:PUBLISH
X-ORIGINAL-URL:https://sekndnature.com
X-WR-CALDESC:Events for Seknd Nature
REFRESH-INTERVAL;VALUE=DURATION:PT1H
X-Robots-Tag:noindex
X-PUBLISHED-TTL:PT1H
BEGIN:VTIMEZONE
TZID:Africa/Johannesburg
BEGIN:STANDARD
TZOFFSETFROM:+0200
TZOFFSETTO:+0200
TZNAME:SAST
DTSTART:20240101T000000
END:STANDARD
END:VTIMEZONE
BEGIN:VEVENT
DTSTART;TZID=Africa/Johannesburg:20251008T170000
DTEND;TZID=Africa/Johannesburg:20251008T210000
DTSTAMP:20260424T090917
CREATED:20251003T134810Z
LAST-MODIFIED:20251004T082820Z
UID:133729-1759942800-1759957200@sekndnature.com
SUMMARY:420 Film Society: Princess Mononoke
DESCRIPTION: 420 Film Society Presents: Princess Mononoke\nGet ready for an elevated cinematic journey into the mystical forests of ancient Japan \nJoin us for a transcendent screening of Hayao Miyazaki’s masterpiece\, Princess Mononoke – a visually stunning epic that explores the delicate balance between nature and humanity\, spirits and civilization. \n\nAbout the Film\nThis isn’t your typical animated film. Princess Mononoke is a breathtaking tale of Ashitaka\, a young warrior cursed by a demon\, who finds himself caught in a war between the supernatural guardians of the forest and the humans consuming its resources. With gorgeous hand-drawn animation\, ancient forest gods\, and themes that hit different when you’re in the right mindset\, this Studio Ghibli classic is perfect for our 420 community. \nWhy it’s perfect for a 420 screening: \n\nMesmerizing visuals that showcase the beauty and power of nature\nForest spirits\, wolf gods\, and mystical creatures that’ll blow your mind\nDeep environmental themes about humanity’s relationship with the natural world\nEpic scope with moments of profound peace and introspection\nSome of the most beautiful animation ever created\n\nEvent Details\nDate: Wednesday\, 8th October \nTime: 17:00pm – 21:00pm\nLocation: Seknd Nature\, Kalk Bay Store\n124 Main Road\, Kalk Bay \nCome early\, grab your spot\, and settle in for a film that’s equal parts action epic and spiritual meditation. Whether you’re a Ghibli veteran or experiencing Miyazaki’s genius for the first time\, this is an experience best shared with our community. \nBring good vibes\, respect the space\, and prepare for a journey into the enchanted forest. \nTickets\nStandard — R100Entry + your choice of: \n\n1 Premium Pre-Roll or\n1 Infused Edible\n\nVIP — R420Not just a seat — a statement. Includes: \n\nZootly Space Bar (50mg)\nGobbles Edibles (120mg)\nLucky Club Infused Drink (30mg)\nPremium Pre-Roll\n\nThis is not mass entertainment. It’s a curated evening where scarcity sharpens the experience and indulgence is the theme. \nRSVP now — because once the room is full\, the trip begins without you. \nTickets HERE \n🎬 See you there! 🌲
URL:https://sekndnature.com/event/420-film-society-princess-mononoke/
LOCATION:Seknd Nature Kalk Bay\, 124 Main Road Kalk Bay\, Cape Town\, Western Cape\, 7975\, South Africa
CATEGORIES:Social Event
ORGANIZER;CN="Seknd Nature Kalk Bay":MAILTO:hello@sekndnature.com
END:VEVENT
BEGIN:VEVENT
DTSTART;VALUE=DATE:20251011
DTEND;VALUE=DATE:20251012
DTSTAMP:20260424T090917
CREATED:20251003T153122Z
LAST-MODIFIED:20251003T153454Z
UID:133783-1760140800-1760227199@sekndnature.com
SUMMARY:Ink & Elevation: Guest Tattoo Artist Event
DESCRIPTION:Dylan Marc Theron at Seknd Nature\, Kalk Bay \nWe’re bringing art to skin with a special guest artist event at our Kalk Bay location! \nAbout the Artist\nDylan Marc Theron is a skilled cultural tattoo artist specializing in both handpoke and electric craft. With a deep respect for traditional techniques and contemporary style\, Dylan brings artistry and intention to every piece. \nWhether you’re looking for intricate cultural designs\, meaningful symbols\, or custom work that speaks to your story\, Dylan’s expertise in both ancient handpoke methods and modern electric tattooing means he can bring your vision to life. \n  \nEvent Details\n📍 Location: Seknd Nature\, Kalk Bay   \n124 Main Road\, Kalk Bay \n📅 Date: Saturday 11th\, October\n⏰ Time: All day \nSpecial Offers\n✨ FREE Pre-Roll with Every Tattoo Purchase\n🍃 Infused Food & Drink Specials available throughout the event \nBook Your Spot\nWalk-ins welcome\, but booking ahead is recommended to secure your preferred time slot. \nContact Dylan to Book: \n\n📱 Phone: 076 547 2187\n📧 Email: dylanmarctheron@gmail.com\n📸 Instagram: @DMTSAKYAN\n👤 Facebook: Dylan Marc Theron\n\nCheck out Dylan’s portfolio on his socials to get inspired before your session! \n\nArt\, culture\, and good vibes – only at Seknd Nature
URL:https://sekndnature.com/event/ink-elevation-guest-tattoo-artist-event/
LOCATION:Western cape
CATEGORIES:Social Event
END:VEVENT
BEGIN:VEVENT
DTSTART;TZID=Africa/Johannesburg:20251012T190000
DTEND;TZID=Africa/Johannesburg:20251012T210000
DTSTAMP:20260424T090917
CREATED:20251004T092413Z
LAST-MODIFIED:20251009T165027Z
UID:134083-1760295600-1760302800@sekndnature.com
SUMMARY:420 Film Society: Deadpool vs Wolverine Feature
DESCRIPTION:420 Film Society — Bree Street\n \n📍 Seknd Nature — 190 Bree Street\, Cape Town📅 Sunday\, 12 October | Doors 19:00 · Film 19:30🎟️ R100 — includes premium indoor pre-roll (members\, 18+)\, movie ticket\, and lounge access \nCinema\, but closer.Change the room and you change the film. 420 Film Society turns Bree Street into a private screening lounge where context does half the storytelling. Fewer seats\, better crowd\, a premium indoor pre-roll included — suddenly the same movie feels twice as vivid. \n\nWhat You Get for R100\n\n1 × premium indoor pre-roll (for members\, 18+)\nYour movie ticket for this edition’s feature\nAccess to the Bree Street lounge for the screening\n\n\nNot a member yet? Join on arrival with valid ID. Quick\, simple\, compliant. \n\n\nThis Edition’s Feature\nDeadpool & Wolverine (2024)A riotously self-aware buddy brawl — funnier\, louder\, and far more conspiratorial when watched with a room of co-conspirators. \n\nEvent Details\n\nDate & Time: Sunday\, 12 October · Doors 19:00 · Showtime 19:30\nVenue: Seknd Nature — 190 Bree Street\, Cape Town\nSeating: Strictly limited (small room by design)\nDress Code: Comfortable\, scent-neutral (let the terpenes speak)\n\n\nHouse Rules (Compliance & Care)\n\nPrivate members’ screening. 18+ only\, ID required.\nConsumption is for members\, on-site\, within lounge rules.\nPlease arrange safe transport. Never drive under the influence.\n\n\n\nBook Now\nR100 per person. Limited seats.\nGet tickets here\n\nWhen seats are gone\, they’re gone — scarcity is part of the value.
URL:https://sekndnature.com/event/420-film-society-deadpool/
LOCATION:Seknd Nature Bree Street\, 190 Bree street\, Cape Town\, western Cape\, 8001\, South Africa
CATEGORIES:Social Event
ORGANIZER;CN="Seknd Nature Kalk Bay":MAILTO:hello@sekndnature.com
END:VEVENT
BEGIN:VEVENT
DTSTART;TZID=Africa/Johannesburg:20251015T170000
DTEND;TZID=Africa/Johannesburg:20251015T210000
DTSTAMP:20260424T090917
CREATED:20251007T125020Z
LAST-MODIFIED:20251014T103048Z
UID:135284-1760547600-1760562000@sekndnature.com
SUMMARY:420 Film Society: Blue Planet I
DESCRIPTION:Get ready for an elevated cinematic journey into the mystical depths of our oceans\n\n\nJoin us for a transcendent screening of BBC’s masterpiece\, Blue Planet – a visually stunning epic that explores the mysterious underwater world\, revealing the beauty and drama beneath the waves. \n \nAbout the Series\nThis isn’t your typical documentary series. Blue Planet is a groundbreaking exploration that first introduced the world to the wonders of our oceans. From coastal seas to the open ocean\, this pioneering series reveals marine life and underwater landscapes never before captured on film. With David Attenborough’s iconic narration\, stunning visuals\, and a sense of discovery that hit different when you’re in the right mindset\, this BBC classic is perfect for our 420 community. \nEvent Details\nDate: Wednesday\, October 15th\, 2025\nTime: 17:00 pm – 21:00 pm\nLocation: Seknd Nature\, Kalk Bay Store\n124 Main Road\, Kalk Bay \nCome early\, grab your spot\, and settle in for a series that’s equal parts breathtaking spectacle and meditative exploration. Whether you’re a nature documentary veteran or diving into the blue for the first time\, this is an experience best shared with our community. \nBring good vibes\, respect the space\, and prepare for a journey into the deep blue. \n🎬 See you there! 🌊 \n\n420 Film Society – Elevating cinema\, one screening at a time
URL:https://sekndnature.com/event/420-film-society-blue-planet-i/
LOCATION:Seknd Nature Kalk Bay\, 124 Main Road Kalk Bay\, Cape Town\, Western Cape\, 7975\, South Africa
CATEGORIES:Social Event
ORGANIZER;CN="Seknd Nature Kalk Bay":MAILTO:hello@sekndnature.com
END:VEVENT
BEGIN:VEVENT
DTSTART;TZID=Africa/Johannesburg:20251025T160000
DTEND;TZID=Africa/Johannesburg:20251025T160000
DTSTAMP:20260424T090917
CREATED:20251023T085033Z
LAST-MODIFIED:20251025T073334Z
UID:140361-1761408000-1761408000@sekndnature.com
SUMMARY:FIGHT NIGHT at Our Somerset West Branch!
DESCRIPTION:Get ready for an unforgettable evening! We’re hosting Fight Night at our Somerset West branch\, and you’re invited to join us for an epic UFC viewing experience like no other. \nWe’re setting up at 12 A De Beers Avenue in Paardevlei\, right opposite the Cheetah Outreach\, and we’re going all out to make this a night to remember. From 4PM till midnight\, we’ll have the fights streaming on the big screen while we fire up the braai outside the shop. Bring your own meat and your favourite drinks\, and we’ll handle the rest with snacks on us throughout the night. \nWhen you arrive\, we’ll welcome you with a complimentary dab hit and a sample joint to kick off the evening right. It’s all about good vibes\, great people\, and an infused experience that’ll have you relaxed and ready to enjoy every moment of the action. \nEvent Details: 📅 Date: 25th October 2025\n🕓 Time: 4PM – 12AM\n📍 Location: 12 A De Beers Avenue\, Paardevlei\, Somerset West (Opposite Cheetah Outreach) \nWhether you’re a die-hard UFC fan or just looking for a killer night out with your crew\, this is the spot to be. Come through\, bring your friends\, and let’s make Fight Night one for the books! \nSee you there! 🌿🥊 \n 
URL:https://sekndnature.com/event/fight-night-at-our-somerset-west-branch/
LOCATION:Western cape
CATEGORIES:Social Event
END:VEVENT
BEGIN:VEVENT
DTSTART;TZID=Africa/Johannesburg:20251025T180000
DTEND;TZID=Africa/Johannesburg:20251025T200000
DTSTAMP:20260424T090917
CREATED:20251016T202750Z
LAST-MODIFIED:20251023T084345Z
UID:138324-1761415200-1761422400@sekndnature.com
SUMMARY:Elevated Flow with Carly Samuels: Yoga on Bree
DESCRIPTION:Friday\, October 25th | 6:00 PM | Seknd Nature Bree Street\n\n\nWe’re inviting you to experience yoga differently. Not just as a practice\, but as a ritual. A sensory journey. A moment to reconnect with your body\, your breath\, and your community in a way that feels both grounding and expansive. \nOn October 25th\, join us at our Bree Street branch for an evening that blends mindful movement with thoughtfully curated cannabis\, an experience designed to deepen your practice and open new pathways to presence. \n\n \n\nWhy Cannabis and Yoga?\nThe pairing isn’t new. For centuries\, cultures around the world have explored the intersection of plant medicine and contemplative practice. Cannabis can help quiet the mental chatter\, soften physical tension\, and invite a deeper awareness of sensation and breath. Combined with yoga\, it becomes a tool for exploration — helping you move beyond the mind and into the body. \nThis isn’t about getting high. It’s about getting present. \nLed by Carly Samuels\nCarly Samuels will guide you through a one-hour flow crafted for all levels and all vibes. Whether you’re a seasoned yogi or someone who’s never touched their toes\, Carly creates space for wherever you are. Her approach is intuitive\, grounding\, and infused with warmth — the kind of teaching that makes you feel held\, not judged. \nExpect fluid sequences\, breathwork\, and plenty of permission to move at your own pace. This is your practice. She’s just holding the space. \nWhat Your Ticket Includes\n \nEvery R350 ticket comes with a refreshment pairing designed to enhance the experience: \n\nA light infused jelly to ease into the flow\nA premium pre-roll for focus and creativity\nFreshly brewed coffee\, juice\, or herbal tea to centre you\n\nTogether\, it’s a sensory prelude that transforms yoga into something more — a cultural experience that’s memorable\, shareable\, and entirely your own. \nThe Evening Flow\n6:00 PM — Arrive\, check in\, and enjoy your refreshment pairing\n6:30 PM — Guided one-hour yoga journey with Carly\n7:30 PM — Cool down and optional social hangout at Seknd Nature Bree \nStay as long as you like. Connect with others. Sit with the afterglow. This is as much about community as it is about practice. \nAll Vibes Welcome\nWhether you’re here for the movement\, the plant\, the people\, or the simple desire to try something new — you’re welcome. We’re building a space where curiosity is celebrated and everyone belongs. \nTickets are R350 and available now.\nLimited spots. Book yours before they’re gone. \n\nSeknd Nature Bree Street\nFriday\, October 25th | 6:00 PM \nSee you on the mat. 🌿 \n\n\nBOOK YOUR MAT
URL:https://sekndnature.com/event/elevated-flow-cannabis-enhanced-yoga-returns-to-seknd-nature/
LOCATION:Seknd Nature Bree Street\, 190 Bree street\, Cape Town\, western Cape\, 8001\, South Africa
ATTACH;FMTTYPE=image/png:https://sekndnature.com/wp-content/uploads/Cannabis-Fueled-Yoga-—-Seknd-Nature-Bree-Street-1-e1756743951922.png
END:VEVENT
BEGIN:VEVENT
DTSTART;TZID=Africa/Johannesburg:20251030T200000
DTEND;TZID=Africa/Johannesburg:20251030T220000
DTSTAMP:20260424T090917
CREATED:20251009T151054Z
LAST-MODIFIED:20251018T142132Z
UID:136010-1761854400-1761861600@sekndnature.com
SUMMARY:420 Film Society — Open-Air Cinema Edition (Newlands)
DESCRIPTION:420 Film Society — Open‑Air Deck Edition (Newlands)\n \n📍 Seknd Nature — Newlands\, Glenhoff Manor\n📅 30th October | Deck opens 19:00 · Screening 20:00\n🎟 R100 — includes a premium indoor pre-roll (members\, 18+)\, your movie ticket\, and deck access \nCinema\, but closer — and this time\, under the stars.\nChange the ceiling to the sky and the film changes with it. The Open‑Air edition turns our Newlands deck into a private\, members‑only theatre where context does half the storytelling. Fewer seats\, better crowd\, a premium pre‑roll included — that’s how you make the same movie feel twice as vivid. \n\nWhat Your Ticket Includes — R100\n\n1 × premium indoor pre‑roll (for members\, 18+)\nMovie ticket for the feature\nAccess to the open‑air deck for the screening\n\nNew to Seknd Nature? Join on arrival with valid ID. Quick\, simple\, compliant. \n\nWhy it’s special: Small crowd. Open air. Premium pre‑roll. Context that multiplexes can’t sell. \n\nFeature Film\nBeetlejuice (1988)\nTim Burton’s mischievous classic — funnier\, weirder and far more conspiratorial outdoors\, with a roomful of co‑conspirators. \n\nEvent Details\n\nDate & Time: [Insert date] · Deck opens 19:00 · Showtime 20:00\nVenue: Seknd Nature — Newlands\, Glenhoff Manor\nSeating: Strictly limited to preserve sightlines and sound\nDress Code: Comfortable\, scent‑neutral (let the terpenes speak)\nWeather Plan: If conditions turn\, we shift indoors to the Newlands lounge — your ticket stays valid\nBring: A warm layer; Cape Town evenings can be crisp\n\n\nHouse Rules (Compliance & Care)\n\nPrivate members’ screening. 18+ only\, ID required\nConsumption is for members\, on‑site\, within lounge rules\nPlease arrange safe transport — never drive under the influence\n\n\nBook Now — make the most of context\nR100 per person. Limited seats.\nGet tickets here\nWhen they’re gone\, they’re gone — scarcity isn’t a trick; it’s part of the value.
URL:https://sekndnature.com/event/420-film-society-open-air-deck-edition-newlands/
LOCATION:seknd nature Glenhoff\, Glenhof Manor\, 12 Glenhof Rd\, Newlands\, Cape Town\, Western cape\, 7700\, South Africa
END:VEVENT
BEGIN:VEVENT
DTSTART;VALUE=DATE:20251031
DTEND;VALUE=DATE:20251103
DTSTAMP:20260424T090917
CREATED:20251016T211731Z
LAST-MODIFIED:20251021T133919Z
UID:138330-1761868800-1762127999@sekndnature.com
SUMMARY:A Scream-Worthy Collab: Seknd Nature x Highs Cream This Halloween
DESCRIPTION:October 31 – November 2 | Seknd Nature Linksfield \nHalloween just got a whole lot sweeter — and maybe a little elevated. \nThis weekend\, Seknd Nature Linksfield is teaming up with Highs Cream Cpt to bring you something special: complimentary infused or non-infused ice cream cones that blur the line between indulgence and experience. \n\n\n\nThe Perfect Halloween Treat\nForget the candy. This Halloween\, we’re serving up something more memorable. When you visit Seknd Nature Linksfield between Friday\, October 31st and Sunday\, November 2nd\, you’ll receive a complimentary ice cream cone from Highs Cream Cpt — your choice of infused or classic. \nWhether you’re chasing calm or chasing flavour\, this is one treat you won’t want to miss. \n \nWhat is Highs Cream?\nHighs Cream Cpt is redefining what cannabis edibles can be. Creamy\, crafted\, and thoughtfully dosed\, their infused ice cream offers a delicious way to enjoy the benefits of cannabis without the smoke. Each scoop is made with premium ingredients and designed to deliver a smooth\, controlled experience. \nAnd if infused isn’t your vibe? No problem. Their non-infused flavours are just as indulgent. \n \nWhy This Weekend?\nBecause Halloween is about more than costumes and parties. It’s about trying something new\, stepping outside the ordinary\, and treating yourself to experiences that feel a little magical. \nThis collaboration brings together two brands that believe in elevating everyday moments\, whether that’s through quality cannabis products or artisan ice cream that actually tastes incredible. \nVisit Seknd Nature Linksfield\nWhen: Friday\, October 31 – Sunday\, November 2\nWhere: Seknd Nature Linksfield \nStop by anytime this weekend. Explore our curated selection\, meet the Highs Cream team\, and enjoy a treat that’s as intentional as it is delicious. \n\nSeknd Nature Linksfield\nHalloween Weekend Special\nOctober 31 – November 2 \nSee you there. 🍦🎃
URL:https://sekndnature.com/event/a-scream-worthy-collab-seknd-nature-x-highs-cream-this-halloween/
LOCATION:Private: Seknd Nature Linksfield\, 110 Linksfield Road cnr\, Club St\, Linksfield\,\, Johannesburg\,\, WC\, 2192\, South Africa
CATEGORIES:Social Event,Tasting
END:VEVENT
BEGIN:VEVENT
DTSTART;TZID=Africa/Johannesburg:20251031T170000
DTEND;TZID=Africa/Johannesburg:20251031T210000
DTSTAMP:20260424T090917
CREATED:20251004T093345Z
LAST-MODIFIED:20251028T090758Z
UID:134089-1761930000-1761944400@sekndnature.com
SUMMARY:420 Film Society — Halloween Edition: The Exorcist (Kalk Bay)
DESCRIPTION:420 Film Society — Halloween Edition: The Exorcist (Kalk Bay)\nDate: Friday\, 31 October 2025Time: Doors 18:00 · Screening 19:15Venue: Seknd Nature\, Kalk BayTickets: R100 — includes a complimentary edible with every ticketCapacity: Intimate screening\, limited seats \n\nSummary\nHalloween at Seknd Nature\, Kalk Bay: a focused\, small-room screening of the 1973 classic The Exorcist. One ticket gets you your seat and a complimentary edible (included in the R100 price). Simple\, atmospheric\, high-quality watch party with members and friends. Seats are limited—pre-book to secure your spot. \n\nWhat’s included\n\nScreening of The Exorcist (restored version)\nComplimentary edible with every R100 ticket\nCosy\, cinema-style seating at Seknd Nature Kalk Bay\nCurated pre-rolls and drinks available to purchase on the night\nPost-film lounge time\nComplimetary Popcorn\n\n\nRunning order\n\n18:00 — Doors open\, drinks\, seating\n18:45 — Intro & housekeeping\n19:15 — The Exorcist (Part 1)\n20:15 — Short interval\n20:30 — The Exorcist (Part 2)\n21:30 — Wrap\n\n(Timings are a guide.) \n\nHouse rules\n\nMembers & guests\, 18+ only\nConsume responsibly; don’t drive under the influence\nFirst-come seating within ticket class\nNo outside alcohol\nPhones on silent; minimal chatter during the film\n\n\nTickets & RSVP\nR100 per person — edible includedGet Tickets on QuicketQuestions? WhatsApp the Kalk Bay team: [add number] \n\nAbout the film\nThe Exorcist (1973): the benchmark for psychological horror—practical effects\, pinpoint pacing\, and a legacy that still defines the genre. Best experienced with a room that leans in together. \n\nFAQs\nDo I need to be a member?Members and accompanied guests are welcome. New to Seknd Nature? Ask at the door and we’ll guide you. \nAre walk-ins allowed?If seats remain\, yes. Pre-book recommended. \nWhat should I bring?A warm layer—coastal evenings can cool quickly. \nWeather plan?Indoors at Kalk Bay; we run rain or shine. \n\nFine print\nSeknd Nature is a private members’ collective. By attending\, you agree to venue rules and respectful conduct. Management reserves admission rights.
URL:https://sekndnature.com/event/420-film-society-exorcist/
LOCATION:Seknd Nature Kalk Bay\, 124 Main Road Kalk Bay\, Cape Town\, Western Cape\, 7975\, South Africa
CATEGORIES:Social Event
ORGANIZER;CN="Seknd Nature Kalk Bay":MAILTO:hello@sekndnature.com
END:VEVENT
BEGIN:VEVENT
DTSTART;TZID=Africa/Johannesburg:20251031T180000
DTEND;TZID=Africa/Johannesburg:20251031T210000
DTSTAMP:20260424T090917
CREATED:20251004T122140Z
LAST-MODIFIED:20251015T144358Z
UID:134219-1761933600-1761944400@sekndnature.com
SUMMARY:Strain Society: Plattekloof Edition
DESCRIPTION:Strain Society — VIP Tasting at Plattekloof\nSmall room. Big palate.Our classic Strain Society format returns to Plattekloof — a seated\, guided tasting designed for VIP customers who value craft over hype and flavour over noise. \nWhat your R150 ticket includes\n\n3 × 0.5 g indoor pre-rolls from our latest arrivals (served as a tasting flight)\n3 guided tastings covering aroma\, palate\, finish and effect\nPairing bites served throughout to complement each cultivar\nInfused mocktails designed around key terpene families\nExpert insights and a tasting card to take home\n\nEvent details\n\nDate: Friday\, 31st October 2025\nTime: 18:00–21:00\nVenue: Seknd Nature — Plattekloof1 Keurboom Cres\, Plattekloof 1\, Cape Town\, 7500\n\nThe experience\nA quiet masterclass in taste. We’ll structure choice\, reduce guesswork and help you notice what matters — contrast\, balance\, and how to pair. Expect an intimate room\, measured pacing and space to compare notes with other VIP members. \nCapacity is intentionally limited. Once it’s full\, it’s full. \nBook your spot\nGet tickets here \nPriority access for VIP customers. For members. 18+. Consume responsibly.
URL:https://sekndnature.com/event/strain-society-plattekloof/
LOCATION:Seknd Nature Plattekloof\, 1 Keurboom Crescent\, Plattekloof\, Western Cape\, 7500\, South Africa
CATEGORIES:Social Event,Tasting
END:VEVENT
BEGIN:VEVENT
DTSTART;TZID=Africa/Johannesburg:20251031T180000
DTEND;TZID=Africa/Johannesburg:20251031T210000
DTSTAMP:20260424T090917
CREATED:20251006T112533Z
LAST-MODIFIED:20251018T141031Z
UID:134860-1761933600-1761944400@sekndnature.com
SUMMARY:Strain Society: Kenilworth Halloween Edition
DESCRIPTION:420 Strain Society — Kenilworth Smoke Room Launch (Halloween Edition)\n📍 Seknd Nature — Kenilworth📅 Friday\, 31 October | 18:30–21:30 \nA new room does something a new strain can’t: it rewrites the context. And on Halloween\, context does half the work. We’re opening the Kenilworth Smoke Room with a members-only Strain Society — an intimate\, candlelit session where atmosphere heightens attention and attention heightens flavour. No gimmicks. Just scarcity\, setting and superb flower. \n\nWhat’s Included\n\nPrivate first access to the new Kenilworth Smoke Room\nGuided tasting flight of three limited-release strains\nWelcome elixir and palate cleansers (non-alcoholic)\nPremium pre-roll to conclude the session\nTasting cards & notes to take home\nPriority booking for upcoming Strain Society sessions\nHalloween ambience: low light\, vinyl\, and a touch of theatre\n\n\nEvent Details\n\nDate & Time: Friday\, 31 October | 18:30–21:30\nLocation: Seknd Nature — Kenilworth\nCapacity: 20 VIP members only\nDress Code: All-black or subtle costume encouraged; strictly scent-neutral (let the terpenes speak)\nArrival: Please arrive 10 minutes early for check-in\n\n\nTickets\nVIP — R150Includes all items listed above and exclusive access to the Kenilworth Smoke Room launch experience. Limited to 20 seats. \n\nThe Experience\nStrain Society is our quiet rebellion against the noisy\, numbers-only market. On Halloween\, we lean into ritual: a dim room\, measured pacing\, guided contrasts — the sort of theatre that makes nuance legible. In a small group\, attention compounds; with attention\, flavour becomes story. When seats are gone\, they’re gone. That scarcity isn’t a trick — it’s the value. \nGet tickets here
URL:https://sekndnature.com/event/strain-society-kenilworth-halloween-edition/
LOCATION:Seknd Nature Kenilworth\, 274 Main Road Kenilworth\, Cape Town\, Western Cape\, 7708\, South Africa
CATEGORIES:Social Event,Tasting
ATTACH;FMTTYPE=image/png:https://sekndnature.com/wp-content/uploads/STRAIN-SOCIETY-LOGO.png
END:VEVENT
END:VCALENDAR