BEGIN:VCALENDAR
VERSION:2.0
PRODID:-//Seknd Nature - ECPv6.15.14//NONSGML v1.0//EN
CALSCALE:GREGORIAN
METHOD:PUBLISH
X-ORIGINAL-URL:https://sekndnature.com
X-WR-CALDESC:Events for Seknd Nature
REFRESH-INTERVAL;VALUE=DURATION:PT1H
X-Robots-Tag:noindex
X-PUBLISHED-TTL:PT1H
BEGIN:VTIMEZONE
TZID:Africa/Johannesburg
BEGIN:STANDARD
TZOFFSETFROM:+0200
TZOFFSETTO:+0200
TZNAME:SAST
DTSTART:20240101T000000
END:STANDARD
END:VTIMEZONE
BEGIN:VEVENT
DTSTART;TZID=Africa/Johannesburg:20250903T170000
DTEND;TZID=Africa/Johannesburg:20250903T200000
DTSTAMP:20260424T092026
CREATED:20250829T111543Z
LAST-MODIFIED:20250901T163002Z
UID:119158-1756918800-1756929600@sekndnature.com
SUMMARY:420 Film Society: 21 Jump Street
DESCRIPTION:Seknd Nature 420 Film Society: 21 Jump Street \nDate: Wednesday\, 03 SeptemberTime: 5:00 PM – 9:00 PMLocation: Seknd Nature\, Kalk Bay \nSome films remind you that authority is a costume. 21 Jump Street goes further — showing you what happens when that costume doesn’t quite fit. It’s part buddy-comedy\, part undercover farce\, and entirely more enjoyable when shared in a room where everyone’s already primed to laugh. \nThis month\, the 420 Film Society trades high school lockers for ocean views. The question is simple: what happens when two hopeless cops try to relive adolescence? The answer: more chaos\, more laughter\, and more moments that demand to be experienced in company\, not isolation. \nWhy you’ll want to be there: \n\nBecause comedy works best when you hear strangers laughing louder than you.\nBecause our lounge doesn’t just screen films — it sets the state of mind.\nBecause watching 21 Jump Street at home is like sneaking booze into a soda can: it works\, but you’ve missed the fun of doing it openly.\n\nWhat to expect: \n\nA big-screen communal screening of 21 Jump Street\nThe Kalk Bay vibe: cinema\, lounge\, and community by the sea\nDrinks\, snacks\, and conversations that prove the film isn’t the end — it’s the spark\n\n🎟️ Seats are scarce.
URL:https://sekndnature.com/event/420-film-society-21jump/
LOCATION:Seknd Nature Kalk Bay\, 124 Main Road Kalk Bay\, Cape Town\, Western Cape\, 7975\, South Africa
ATTACH;FMTTYPE=image/webp:https://sekndnature.com/wp-content/uploads/21jump-jumbo-e1756744184243.webp
END:VEVENT
BEGIN:VEVENT
DTSTART;TZID=Africa/Johannesburg:20250904T160000
DTEND;TZID=Africa/Johannesburg:20250904T220000
DTSTAMP:20260424T092026
CREATED:20250902T123027Z
LAST-MODIFIED:20250902T134618Z
UID:121683-1757001600-1757023200@sekndnature.com
SUMMARY:Seknd Nature Side Show: 420 Film Society Shorts
DESCRIPTION:Seknd Nature Side Show: 420 Film Society Shorts\n\n\nFirst Thursday at Bree StreetThursday\, 4 September · 4:00 PM – 10:00 PM \n\nCinema Intermissions for the Curious\nNot another gallery. Not another bar. For one night only\, Seknd Nature flips a side room into the city’s smallest cinema — a looping reel of cult stoner classics\, surreal animations\, and underground shorts. \nFive minutes in\, and you’ll see why it’s the reset button Bree Street didn’t know it needed. \n\nWhy Step Inside?\n\nMicro-cinema magic: 5–10 min cult clips on rotation.\nDrop-in\, drop-out: come and go between galleries and bars.\nSeknd Nature twist: members get first look at upcoming 420 Film Society screenings.\n\nSpace is scarce by design — once the beanbags are full\, you’ll have to wait for someone to drift out. \n\nDetails\n\nWhen: Thursday\, 4 September · 7:00 PM – 10:00 PM\nWhere: Seknd Nature — Bree Street\, 190 Bree St\, Cape Town\nFormat: Short cult clips · animations · Film Society teasers\n\n\n RSVP – Space Limited  \n\nSeknd Nature Members\nFlash your membership for priority seating + access to the “extended cut.”
URL:https://sekndnature.com/event/seknd-nature-side-show-420-film-society-shorts/
LOCATION:Western cape
ATTACH;FMTTYPE=image/jpeg:https://sekndnature.com/wp-content/uploads/First-Thursday-on-Bree-street--e1756820764686.jpg
END:VEVENT
BEGIN:VEVENT
DTSTART;TZID=Africa/Johannesburg:20250912T180000
DTEND;TZID=Africa/Johannesburg:20250912T200000
DTSTAMP:20260424T092026
CREATED:20250901T142008Z
LAST-MODIFIED:20250901T162608Z
UID:121314-1757700000-1757707200@sekndnature.com
SUMMARY:Elevate: A Yoga Experience
DESCRIPTION:Friday\, 12 September 2025 · 6:00 PMSeknd Nature\, 190 Bree Street\, Cape TownCapacity: 10–15 guestsTicket Price: R350 (all-inclusive experience) \n\nAn Experience\, Not a Class\nThis isn’t yoga with a twist. It’s yoga with a story you’ll want to tell.By pairing a carefully curated cannabis set with guided movement\, the session expands body and mind — calming\, creative\, and just a little bit extraordinary. \nSeknd Nature isn’t just hosting; we’re staging. Lighting\, refreshment\, and atmosphere are all tuned to make sure you leave saying: “that was different.” \n\nWhat Your Ticket Includes\nEvery R350 ticket comes with a refreshment pairing designed for the practice: \n\nA light infused jelly to ease into the flow\nA premium pre-roll for focus and creativity\nFreshly brewed coffee/juice or herbal tea to centre you\n\nTogether\, it’s a sensory prelude that transforms yoga into a cultural experience — something memorable\, and a little more shareable. \n\nThe Evening Flow\n\n6:00 PM — Arrival\, check-in\, and refreshment pairing\n6:30 PM — Guided one-hour yoga journey\n7:30 PM — Cool-down and optional social hangout at Seknd Nature Bree\n\n\nMeet Carly Samuals\nYour guide for the evening is Carly Samuals — a yoga instructor known for weaving calm\, creativity\, and community into every session. With a focus on mindful movement and accessible practice\, Carly creates spaces where both newcomers and seasoned yogis feel at home. \n“Yoga is about connection — with yourself\, your body\, and the world around you.” — Carly Samuals \nExplore more of her work and classes here:👉A little about Carly \n\nFAQ\n\nDo I have to consume cannabis? No. The pairing is optional — non-infused alternatives are available.\nDo I need a mat? Bring one if you can; a limited number are available by request.\nWho can attend? 18+ only. Standard Seknd Nature membership or guest sign-in applies.\nTransfers? Tickets are transferable up to 24 hours before the event.\n\nTogether\, it’s a sensory prelude that turns yoga into something memorable — and a little more shareable. \n\nThe Evening Flow\n\n6:00 PM — Arrival\, check-in\, and refreshment pairing\n6:30 PM — Guided one-hour yoga journey\n7:30 PM — Cool-down and optional social hangout at Seknd Nature Bree\n\n\n  \nBook your spot 
URL:https://sekndnature.com/event/yoga/
LOCATION:Western cape
ATTACH;FMTTYPE=image/png:https://sekndnature.com/wp-content/uploads/Cannabis-Fueled-Yoga-—-Seknd-Nature-Bree-Street-1-e1756743951922.png
END:VEVENT
BEGIN:VEVENT
DTSTART;TZID=Africa/Johannesburg:20250917T170000
DTEND;TZID=Africa/Johannesburg:20250917T210000
DTSTAMP:20260424T092026
CREATED:20250909T151504Z
LAST-MODIFIED:20250911T110855Z
UID:124633-1758128400-1758142800@sekndnature.com
SUMMARY:420 Film Society: Fear and Loathing in Las Vegas
DESCRIPTION:Fear and Loathing in Las Vegas – The Roxy Theater 📍 Seknd Nature — Kalk Bay 📅 Wednesday\, 17 September | 5:00 PM – 9:00 PM \nSome films you watch. Others you experience. Fear and Loathing in Las Vegas is firmly the latter — a technicolour descent into excess\, satire\, and madness. At Seknd Nature\, it becomes more than a screening: it becomes a ritual. \nThe 420 Film Society isn’t about popcorn alone (though there will be plenty). It’s about watching a cult classic in a room full of fellow insiders — where the laughter is louder\, the snacks more curious\, and the atmosphere charged with a shared sense of “we’re all in on this.” \n\nTickets\nEarly Bird — R100Entry + your choice of: \n\n1 Premium Pre-Roll or\n1 Infused Edible\n\nStandard — R150Entry + your choice of: \n\n1 Premium Pre-Roll or\n1 Infused Edible\n\nVIP — R420Not just a seat — a statement. Includes: \n\nZootly Space Bar (50mg)\nGobbles Edibles (120mg)\nLucky Club Infused Drink (30mg)\nPremium Pre-Roll\n\n\nThis is not mass entertainment. It’s a curated evening where scarcity sharpens the experience and indulgence is the theme. \nRSVP now — because once the room is full\, the trip begins without you. \nBOOK HERE \n 
URL:https://sekndnature.com/event/420-film-society-fear-and-loathing-in-las-vegas/
LOCATION:Seknd Nature Kalk Bay\, 124 Main Road Kalk Bay\, Cape Town\, Western Cape\, 7975\, South Africa
ATTACH;FMTTYPE=image/jpeg:https://sekndnature.com/wp-content/uploads/batcountry.jpg
END:VEVENT
BEGIN:VEVENT
DTSTART;TZID=Africa/Johannesburg:20250925T180000
DTEND;TZID=Africa/Johannesburg:20250925T190000
DTSTAMP:20260424T092026
CREATED:20250810T180122Z
LAST-MODIFIED:20250920T065417Z
UID:112056-1758823200-1758826800@sekndnature.com
SUMMARY:Strain Society 4 — Newlands
DESCRIPTION:` \n\n\n \n\n\n\nSeknd Nature Presents\n\nThursday 25 September 2025 · 6:00 PMSeknd Nature\, Newlands\, Glenhoff ManorSmall room. Big palate. This time\, under the evening sky. \n\nA Quiet Masterclass in Taste\nThe world of cannabis\, like wine or whisky\, is often cluttered with hype and guesswork. Markets talk in features and percentages. Connoisseurs speak a different language: terpenes\, contrasts\, nuance. \nStrain Society is our quiet rebellion against the superficial.It’s not about chasing potency — it’s about learning to taste properly\, to notice what others miss\, and to give names to instincts you’ve always had. \nAt Glenhoff Manor\, cultivars will be paired not only against each other\, but with carefully chosen canapés designed around their terpene families. Think citrus-bright limonene alongside fresh zest\, earthy myrcene beside savoury depth\, pine-forward pinene matched with herbal crispness. The point isn’t indulgence — it’s revelation. \nHosted outdoors on the deck\, with the evening air folded into the palate\, you’ll leave not with poetry but with a simple tasting map — and the confidence to choose with certainty\, not guesswork. \n\nEvent Details\n\n📍 Venue: Seknd Nature · Glenhoff Manor — tasting on the deck (check-in at the store)\n📅 Date: Thursday\, 25 September 2025\n⏰ Time: 7:00 PM start (arrive from 6:45 PM)\n🍷 Format: Guided tasting flight · terpene-paired canapés · discussion · practical palate note\n\n  \n\nWhat to Expect\n\nCurated Flight — Three to four cultivars\, selected to highlight contrasts in aroma\, flavour\, and effect.\nTerpene Pairings — Each cultivar paired with a canapé designed to mirror or contrast its dominant terpene notes.\nGuided Framework — Sniff\, dry pull\, first burn\, retrohale — structured with a scoring card you’ll want to reuse.\nConversation\, Not Hype — Small group intimacy\, candid discussion\, and the freedom to ask without pretence.\n\n\nWhy RSVP Now\nScarcity here isn’t a trick. It’s the design. A smaller room means sharper conversation\, a richer sensory journey\, and more attention per guest. \n\nSpace Limited \nScarcity is the point. \nSeats are limited — RSVP now for Glenhoff’s Strain Society edition. \nEarly Bird — R100 \nEntry + your choice of: \n\n3 x 0.5g Premium Pre-Rolls and 3 x Chocolate dessert Pairings\nWelcome drink\n\nStandard — R150 \nEntry + your choice of: \n\n3 x 0.5g Premium Pre-Rolls and 3 x Chocolate dessert Pairings\nWelcome drink\n\nVIP — R420 \nNot just a seat — a statement. Includes: \n\nZootly Space Bar (50mg)\nGobbles Edibles (120mg)\nLucky Club Infused Drink (50)\n3 x 0.5g Premium Pre-Rolls and 3 x Chocolate dessert Pairings\nWelcome drink\n\nGet Tickets HERE \n\nIf capacity is reached\, you’ll be placed on the waitlist in order received. By RSVPing you consent to event updates from Seknd Nature (opt out anytime). \nIf you know\, you know.Glenhoff Manor. Thursday\, 25 September. 6 PM. \n\n\n\n 
URL:https://sekndnature.com/event/strain-society-4-glenhoff/
LOCATION:seknd nature Glenhoff\, Glenhof Manor\, 12 Glenhof Rd\, Newlands\, Cape Town\, Western cape\, 7700\, South Africa
ATTACH;FMTTYPE=image/jpeg:https://sekndnature.com/wp-content/uploads/unnamed-3.jpg
END:VEVENT
BEGIN:VEVENT
DTSTART;TZID=Africa/Johannesburg:20250925T180000
DTEND;TZID=Africa/Johannesburg:20250925T200000
DTSTAMP:20260424T092026
CREATED:20251004T110540Z
LAST-MODIFIED:20251004T111249Z
UID:134123-1758823200-1758830400@sekndnature.com
SUMMARY:Find your flow with Carly Samuels x Seknd Nature
DESCRIPTION:Join us for a rejuvenating yoga session that connects mind\, body\, and spirit in the heart of the city. \n \n  \nAbout the Session\nLed by the one and only Carly Samuels\, this yoga experience is designed to help you unwind\, stretch\, and center yourself. Whether you’re a seasoned yogi or stepping onto the mat for the first time\, Carly creates a welcoming space for all levels and abilities. \nExpect a flowing practice that balances movement with mindfulness\, strength with flexibility\, and energy with calm. Leave feeling refreshed\, grounded\, and reconnected to yourself. \nEvent Details\n📅 Date: Saturday\, October 25th\n⏰ Time: 18:00 pm – 20:00 pm\n📍 Location: Seknd Nature\, Bree Street\n190 Bree St\, Gardens\, Cape Town\, 8001 \nWhat to Bring\n\nYour yoga mat\nWater bottle\nComfortable clothing\nAn open mind and good vibes\n\nSpaces are limited – secure your spot early! \nBook Your Mat\n\nStretch\, breathe\, elevate – only at Seknd Nature 🧘‍♀️
URL:https://sekndnature.com/event/find-your-flow-with-carly-samuels-x-seknd-nature/
LOCATION:Western cape
END:VEVENT
END:VCALENDAR