BEGIN:VCALENDAR
VERSION:2.0
PRODID:-//Seknd Nature - ECPv6.15.14//NONSGML v1.0//EN
CALSCALE:GREGORIAN
METHOD:PUBLISH
X-WR-CALNAME:Seknd Nature
X-ORIGINAL-URL:https://sekndnature.com
X-WR-CALDESC:Events for Seknd Nature
REFRESH-INTERVAL;VALUE=DURATION:PT1H
X-Robots-Tag:noindex
X-PUBLISHED-TTL:PT1H
BEGIN:VTIMEZONE
TZID:Africa/Johannesburg
BEGIN:STANDARD
TZOFFSETFROM:+0200
TZOFFSETTO:+0200
TZNAME:SAST
DTSTART:20230101T000000
END:STANDARD
END:VTIMEZONE
BEGIN:VEVENT
DTSTART;TZID=Africa/Johannesburg:20250816T160000
DTEND;TZID=Africa/Johannesburg:20250816T220000
DTSTAMP:20260424T070424
CREATED:20250810T152615Z
LAST-MODIFIED:20250815T094410Z
UID:111991-1755360000-1755381600@sekndnature.com
SUMMARY:Revolution Day
DESCRIPTION:  \n  \n  \n  \n  \n  \n  \n\n\n\nRevolution Starts Here — 16 August at Bree Street\nLive DJ. Rolling Stoner cover art. First 50 through the door with an RSVP get a free pre roll. \nRSVP Now — Don’t Miss Out \n\n\n \n\n\n\nThis is Revolution Day\nSome revolutions start with a whisper. Ours starts with a bassline\, a burst of colour\, and a cloud of something wonderfully familiar. \nSeknd Nature Bree Street hosts Revolution Day — a one‑night celebration of music\, art\, and culture\, in collaboration with Rolling Stoner Magazine. \nThis is not just another night out. It’s an invitation to be part of Cape Town’s counterculture in its most refined form. \n\n\nEvent Details\n\n📍\nVenue Seknd Nature\, Bree Street\n\n\n📅\nDate Saturday\, 16 August 2025\n\n\n🕓\nTime From 4 PM till late\n\n\n🎟️\nPerk Complimentary pre roll for the first 50 guests who RSVP and arrive\n\n\n\n\n \n\n\n\nWhat to Expect\n\nAudio experience — beats that build the night\, from warm‑up to peak.\nArt Exhibition — original works by local artists whose creations have graced the Rolling Stoner cover.\nExclusive Arrival Perk — a free pre roll for the first 50 guests who RSVP and arrive.\n\n\n\nWhy RSVP?\nWe could let you just show up… but where’s the thrill in that? The free pre rolls are for those who commit. The first 50 to RSVP and arrive don’t just get a smoke — they get the satisfaction of knowing they were in before everyone else. \nSpaces are limited — once we’re full\, we’re full. \n\n\n\n \n\n\n\nRSVP to Attend\nOnly the first 50 guests to RSVP and arrive will receive a complimentary pre roll on entry. \n \n \n\nBy RSVPing you consent to event updates from Seknd Nature. You can opt out anytime. \n\n\n\n \n\n\nCulture doesn’t change from the sidelines. \nBe here. Be early. Be part of the Revolution. \nRSVP Now — Don’t Miss Out
URL:https://sekndnature.com/event/revolution-day/
LOCATION:Seknd Nature Bree Street\, 190 Bree street\, Cape Town\, western Cape\, 8001\, South Africa
END:VEVENT
BEGIN:VEVENT
DTSTART;TZID=Africa/Johannesburg:20250813T170000
DTEND;TZID=Africa/Johannesburg:20250813T200000
DTSTAMP:20260424T070424
CREATED:20250808T121136Z
LAST-MODIFIED:20250810T161628Z
UID:110873-1755104400-1755115200@sekndnature.com
SUMMARY:420 Film Society 3rd Edition
DESCRIPTION:Wednesday\, 13 August| 5PM – 8PMSeknd Nature – Kalk Bay \n\nStep into something different. \nJoin us for an exclusive Wednesday evening screening inside Seknd Nature’s Kalk Bay smoke lounge — a curated cannabis-friendly cinema experience made for connoisseurs\, creatives\, and cult classic lovers. \nFrom 5PM\, guests are welcomed into our low-lit lounge with a complimentary pre-roll on arrival. At 6PM sharp\, the film begins — chosen by community vote — surrounded by cushions\, clouds\, and company. \nSpace is limited. Entry is RSVP-only. \n\nAll RSVP guests receive: \n\n\nA complimentary pre-roll on arrival \n\n\nAccess to the screening and lounge from 5PM \n\n\nPriority access to our secret event-only menu \n\n\n\nTo reserve your spot\, please enter your details below.This is an intimate experience — we’ll confirm via DM or email. First come\, first seated.
URL:https://sekndnature.com/event/420-film-society-3rd-edition/
LOCATION:Western cape
END:VEVENT
BEGIN:VEVENT
DTSTART;TZID=Africa/Johannesburg:20250807T160000
DTEND;TZID=Africa/Johannesburg:20250807T220000
DTSTAMP:20260424T070424
CREATED:20250731T103742Z
LAST-MODIFIED:20250805T173429Z
UID:107629-1754582400-1754604000@sekndnature.com
SUMMARY:First Thursday on Bree Seknd Nature
DESCRIPTION:First Thursday on Bree Seknd Nature\nNot everything on First Thursdays needs to be loud. Some experiences flourish in low light\, among like-minded people and good energy. \nSeknd Nature invites you to an elevated session at our brand-new Bree Street branch. Expect warm lighting\, laid-back conversation\, welcome drinks\, tasty bites\, and a soundtrack spun live by our in-house DJ. \nAnd if you’re among the first 100 to RSVP? There’s a complimentary pre-roll waiting for you on arrival. \nJoin us from 4 PM on Thursday\, 7 August\, and experience a softer kind of celebration. \n  \n[RSVP Now] — Be one of the first 100 and claim your free pre-roll.
URL:https://sekndnature.com/event/first-thursdays-on-bree-seknd-nature/
LOCATION:Seknd Nature Kalk Bay\, 124 Main Road Kalk Bay\, Cape Town\, Western Cape\, 7975\, South Africa
END:VEVENT
BEGIN:VEVENT
DTSTART;TZID=Africa/Johannesburg:20250807T160000
DTEND;TZID=Africa/Johannesburg:20250807T220000
DTSTAMP:20260424T070424
CREATED:20250724T111250Z
LAST-MODIFIED:20250805T173318Z
UID:103638-1754582400-1754604000@sekndnature.com
SUMMARY:First Thursday Down South with Seknd Nature
DESCRIPTION:First Thursday Down South // 7 August – Kalk BayThey say something stirs when the sun sets over the South Peninsula. On the first Thursday of the month\, Kalk Bay becomes more than a fishing village — it becomes a portal. \nSeknd Nature invites you in.Behind our doors: flickers of jazz\, gallery whispers\, warm smoke in salt air\, and conversations that wander as far as the tide. \nWe won’t say too much. That’s part of the charm.Just follow the scent of something rare. \n📍 Seknd Nature Kalk Bay – 124 Main Rd🕔 Thursday\, 7 August | From 5PM \nNo flyers. No lineups. No agenda. Just an evening carved from the kind of magic you can’t fake.
URL:https://sekndnature.com/event/first-thursday-with-seknd-nature/
LOCATION:Seknd Nature Kalk Bay\, 124 Main Road Kalk Bay\, Cape Town\, Western Cape\, 7975\, South Africa
END:VEVENT
BEGIN:VEVENT
DTSTART;TZID=Africa/Johannesburg:20250728T170000
DTEND;TZID=Africa/Johannesburg:20250728T200000
DTSTAMP:20260424T070424
CREATED:20250717T112429Z
LAST-MODIFIED:20250723T153240Z
UID:101000-1753722000-1753732800@sekndnature.com
SUMMARY:420 Film Society: Smoke Room Cinema
DESCRIPTION:420 Film Society: Smoke Room Cinema 2nd edition\nMonday\, 28 July| 5PM – 8PMSeknd Nature – Kalk Bay \n\nStep into something different. \nJoin us for an exclusive Monday evening screening inside Seknd Nature’s Kalk Bay smoke lounge — a curated cannabis-friendly cinema experience made for connoisseurs\, creatives\, and cult classic lovers. \nFrom 5PM\, guests are welcomed into our low-lit lounge with a complimentary pre-roll on arrival. At 6PM sharp\, the film begins — chosen by community vote — surrounded by cushions\, clouds\, and company. \nSpace is limited. Entry is RSVP-only. \n\nAll RSVP guests receive: \n\n\nA complimentary pre-roll on arrival \n\n\nAccess to the screening and lounge from 5PM \n\n\nPriority access to our secret event-only menu \n\n\n\nTo reserve your spot\, please enter your details below.This is an intimate experience — we’ll confirm via DM or email. First come\, first seated.
URL:https://sekndnature.com/event/420-film-society-smoke-room-cinema-2/
LOCATION:Seknd Nature Kalk Bay\, 124 Main Road Kalk Bay\, Cape Town\, Western Cape\, 7975\, South Africa
CATEGORIES:Social Event
ORGANIZER;CN="Seknd Nature Kalk Bay":MAILTO:hello@sekndnature.com
END:VEVENT
BEGIN:VEVENT
DTSTART;TZID=Africa/Johannesburg:20250716T180000
DTEND;TZID=Africa/Johannesburg:20250716T200000
DTSTAMP:20260424T070424
CREATED:20250714T104141Z
LAST-MODIFIED:20250714T115600Z
UID:99848-1752688800-1752696000@sekndnature.com
SUMMARY:Strain Society 2: Plattekloof
DESCRIPTION:What to Expect\n\nA guided tasting of three premium strains\, each with its own character\nThoughtfully paired refreshments and light bites\nA complimentary pre-roll on arrival\nA relaxed\, intimate atmosphere – no crowds\, no pressure\n\nAs a thank for your attendance you’ll receive: \n\n10% off all products if attending solo\n20% off if you bring a guest\n\n  \nAbout Strain Society\nStrain Society is Seknd Nature’s travelling tasting series – a curated\, invite-only experience that explores premium cultivars through ritual\, education\, and shared connection. Each edition grows the circle\, one gathering at a time.
URL:https://sekndnature.com/event/strain-society-2-plattekloof/
LOCATION:Seknd Nature Plattekloof\, 1 Keurboom Crescent\, Plattekloof\, Western Cape\, 7500\, South Africa
CATEGORIES:Social Event,Tasting
ORGANIZER;CN="Seknd Nature Plattekloof":MAILTO:info@sekndnature.com
END:VEVENT
BEGIN:VEVENT
DTSTART;TZID=Africa/Johannesburg:20250523T153000
DTEND;TZID=Africa/Johannesburg:20250523T170000
DTSTAMP:20260424T070424
CREATED:20250522T094504Z
LAST-MODIFIED:20250522T133705Z
UID:80215-1748014200-1748019600@sekndnature.com
SUMMARY:Badminton Competition
DESCRIPTION:We’re hosting a free Badminton Competition outside the Seknd Nature Somerset West shop. \nCome join a bit of a smash around on Friday afternoon\, or give some support from the courtside while enjoying some of our products. \nWe’re expecting some lovely sunny weather!\n \nTo book your spot for the games\, click on the GOING button above.\nPlease note: When you click Finish after entering your details the system will process your RSVP booking to secure your spot. There won’t be any page redirect or further transaction required.
URL:https://sekndnature.com/event/badminton-competition/
LOCATION:Seknd Nature Somerset West\, G03 House of Levi 12A De Beers Avenue\, Paardevlei Somerset West\, Cape Town\, Western Cape\, 7130\, South Africa
CATEGORIES:Social Event
END:VEVENT
BEGIN:VEVENT
DTSTART;TZID=Africa/Johannesburg:20241107T170000
DTEND;TZID=Africa/Johannesburg:20241107T213000
DTSTAMP:20260424T070424
CREATED:20241008T183903Z
LAST-MODIFIED:20241008T185422Z
UID:19631-1730998800-1731015000@sekndnature.com
SUMMARY:First Thursday Kalk Bay
DESCRIPTION:Bringing a platform to Muizenberg & Kalk Bay for the best of local art\, music and spaces. Join us on the First Thursday of every month and explore!
URL:https://sekndnature.com/event/first-thursday-kalk-bay-2/
LOCATION:Seknd Nature Kalk Bay\, 124 Main Road Kalk Bay\, Cape Town\, Western Cape\, 7975\, South Africa
CATEGORIES:Promotion,Social Event,Tasting
END:VEVENT
BEGIN:VEVENT
DTSTART;TZID=Africa/Johannesburg:20241103T090000
DTEND;TZID=Africa/Johannesburg:20241103T170000
DTSTAMP:20260424T070424
CREATED:20241008T190247Z
LAST-MODIFIED:20241008T190247Z
UID:19659-1730624400-1730653200@sekndnature.com
SUMMARY:Dab Sunday Kalk Bay
DESCRIPTION:All day every Sunday\, enjoy a free dab bit with any purchase over R100 on the house! \nChoose from great selection of BHO options.
URL:https://sekndnature.com/event/dab-sunday-kalk-bay-4/
LOCATION:Seknd Nature Kalk Bay\, 124 Main Road Kalk Bay\, Cape Town\, Western Cape\, 7975\, South Africa
CATEGORIES:Promotion
END:VEVENT
BEGIN:VEVENT
DTSTART;TZID=Africa/Johannesburg:20241103T090000
DTEND;TZID=Africa/Johannesburg:20241103T150000
DTSTAMP:20260424T070424
CREATED:20241008T190336Z
LAST-MODIFIED:20241008T190336Z
UID:19658-1730624400-1730646000@sekndnature.com
SUMMARY:Dab Sunday Kenilworth
DESCRIPTION:All day every Sunday\, enjoy a free dab bit with any purchase over R100 on the house! \nChoose from great selection of BHO options.
URL:https://sekndnature.com/event/dab-sunday-kenilworth-4/
LOCATION:Seknd Nature Kenilworth\, 274 Main Road Kenilworth\, Cape Town\, Western Cape\, 7708\, South Africa
CATEGORIES:Promotion
END:VEVENT
BEGIN:VEVENT
DTSTART;TZID=Africa/Johannesburg:20241102T100000
DTEND;TZID=Africa/Johannesburg:20241102T140000
DTSTAMP:20260424T070424
CREATED:20241008T190603Z
LAST-MODIFIED:20241008T190603Z
UID:19672-1730541600-1730556000@sekndnature.com
SUMMARY:Dab Saturday Somerset West
DESCRIPTION:All day every Saturday\, enjoy a free dab bit with any purchase over R100 on the house! \nChoose from great selection of BHO options.
URL:https://sekndnature.com/event/dab-saturday-somerset-west-4/
LOCATION:Seknd Nature Somerset West\, G03 House of Levi 12A De Beers Avenue\, Paardevlei Somerset West\, Cape Town\, Western Cape\, 7130\, South Africa
CATEGORIES:Promotion
END:VEVENT
BEGIN:VEVENT
DTSTART;TZID=Africa/Johannesburg:20241029T090000
DTEND;TZID=Africa/Johannesburg:20241029T190000
DTSTAMP:20260424T070424
CREATED:20241008T190259Z
LAST-MODIFIED:20241008T190259Z
UID:19662-1730192400-1730228400@sekndnature.com
SUMMARY:Dab Tuesday Kalk Bay
DESCRIPTION:All day every Tuesday\, enjoy a free dab bit with any purchase over R100 on the house! \nChoose from great selection of BHO options.
URL:https://sekndnature.com/event/dab-tuesday-kalk-bay-4/
LOCATION:Seknd Nature Kalk Bay\, 124 Main Road Kalk Bay\, Cape Town\, Western Cape\, 7975\, South Africa
CATEGORIES:Promotion
END:VEVENT
BEGIN:VEVENT
DTSTART;TZID=Africa/Johannesburg:20241029T090000
DTEND;TZID=Africa/Johannesburg:20241029T180000
DTSTAMP:20260424T070424
CREATED:20241008T190318Z
LAST-MODIFIED:20241008T190318Z
UID:19663-1730192400-1730224800@sekndnature.com
SUMMARY:Dab Tuesday Kenilworth
DESCRIPTION:All day every Tuesday\, enjoy a free dab bit with any purchase over R100 on the house! \nChoose from great selection of BHO options.
URL:https://sekndnature.com/event/dab-tuesday-kenilworth-3/
LOCATION:Seknd Nature Kenilworth\, 274 Main Road Kenilworth\, Cape Town\, Western Cape\, 7708\, South Africa
CATEGORIES:Promotion
END:VEVENT
BEGIN:VEVENT
DTSTART;TZID=Africa/Johannesburg:20241029T090000
DTEND;TZID=Africa/Johannesburg:20241029T180000
DTSTAMP:20260424T070424
CREATED:20241008T190310Z
LAST-MODIFIED:20241008T190310Z
UID:19664-1730192400-1730224800@sekndnature.com
SUMMARY:Dab Tuesday Somerset West
DESCRIPTION:All day every Tuesday\, enjoy a free dab bit with any purchase over R100 on the house! \nChoose from great selection of BHO options.
URL:https://sekndnature.com/event/dab-tuesday-somerset-west-4/
LOCATION:Seknd Nature Somerset West\, G03 House of Levi 12A De Beers Avenue\, Paardevlei Somerset West\, Cape Town\, Western Cape\, 7130\, South Africa
CATEGORIES:Promotion
END:VEVENT
BEGIN:VEVENT
DTSTART;TZID=Africa/Johannesburg:20241028T090000
DTEND;TZID=Africa/Johannesburg:20241028T180000
DTSTAMP:20260424T070424
CREATED:20241008T184956Z
LAST-MODIFIED:20241008T184956Z
UID:19636-1730106000-1730138400@sekndnature.com
SUMMARY:Rainbow Monday Somerset West
DESCRIPTION:Everyone agrees – Blue Monday’s are no fun :( \nAll day every Monday\, enjoy our Mixed Strain Rainbow Joints. \nWin the lottery with every toke.
URL:https://sekndnature.com/event/rainbow-monday-somerset-west-2/
LOCATION:Seknd Nature Somerset West\, G03 House of Levi 12A De Beers Avenue\, Paardevlei Somerset West\, Cape Town\, Western Cape\, 7130\, South Africa
CATEGORIES:Promotion
END:VEVENT
BEGIN:VEVENT
DTSTART;TZID=Africa/Johannesburg:20241027T090000
DTEND;TZID=Africa/Johannesburg:20241027T170000
DTSTAMP:20260424T070424
CREATED:20241008T185941Z
LAST-MODIFIED:20241008T185941Z
UID:19650-1730019600-1730048400@sekndnature.com
SUMMARY:Dab Sunday Kalk Bay
DESCRIPTION:All day every Sunday\, enjoy a free dab bit with any purchase over R100 on the house! \nChoose from great selection of BHO options.
URL:https://sekndnature.com/event/dab-sunday-kalk-bay-3/
LOCATION:Seknd Nature Kalk Bay\, 124 Main Road Kalk Bay\, Cape Town\, Western Cape\, 7975\, South Africa
CATEGORIES:Promotion
END:VEVENT
BEGIN:VEVENT
DTSTART;TZID=Africa/Johannesburg:20241027T090000
DTEND;TZID=Africa/Johannesburg:20241027T150000
DTSTAMP:20260424T070424
CREATED:20241008T190026Z
LAST-MODIFIED:20241008T190026Z
UID:19651-1730019600-1730041200@sekndnature.com
SUMMARY:Dab Sunday Kenilworth
DESCRIPTION:All day every Sunday\, enjoy a free dab bit with any purchase over R100 on the house! \nChoose from great selection of BHO options.
URL:https://sekndnature.com/event/dab-sunday-kenilworth-3/
LOCATION:Seknd Nature Kenilworth\, 274 Main Road Kenilworth\, Cape Town\, Western Cape\, 7708\, South Africa
CATEGORIES:Promotion
END:VEVENT
BEGIN:VEVENT
DTSTART;TZID=Africa/Johannesburg:20241026T100000
DTEND;TZID=Africa/Johannesburg:20241026T140000
DTSTAMP:20260424T070424
CREATED:20241008T190521Z
LAST-MODIFIED:20241008T190521Z
UID:19660-1729936800-1729951200@sekndnature.com
SUMMARY:Dab Saturday Somerset West
DESCRIPTION:All day every Saturday\, enjoy a free dab bit with any purchase over R100 on the house! \nChoose from great selection of BHO options.
URL:https://sekndnature.com/event/dab-saturday-somerset-west-3/
LOCATION:Seknd Nature Somerset West\, G03 House of Levi 12A De Beers Avenue\, Paardevlei Somerset West\, Cape Town\, Western Cape\, 7130\, South Africa
CATEGORIES:Promotion
END:VEVENT
BEGIN:VEVENT
DTSTART;TZID=Africa/Johannesburg:20241022T090000
DTEND;TZID=Africa/Johannesburg:20241022T190000
DTSTAMP:20260424T070424
CREATED:20241008T185652Z
LAST-MODIFIED:20241008T185652Z
UID:19644-1729587600-1729623600@sekndnature.com
SUMMARY:Dab Tuesday Kalk Bay
DESCRIPTION:All day every Tuesday\, enjoy a free dab bit with any purchase over R100 on the house! \nChoose from great selection of BHO options.
URL:https://sekndnature.com/event/dab-tuesday-kalk-bay-3/
LOCATION:Seknd Nature Kalk Bay\, 124 Main Road Kalk Bay\, Cape Town\, Western Cape\, 7975\, South Africa
CATEGORIES:Promotion
END:VEVENT
BEGIN:VEVENT
DTSTART;TZID=Africa/Johannesburg:20241022T090000
DTEND;TZID=Africa/Johannesburg:20241022T180000
DTSTAMP:20260424T070424
CREATED:20241008T185739Z
LAST-MODIFIED:20241008T185739Z
UID:19648-1729587600-1729620000@sekndnature.com
SUMMARY:Dab Tuesday Kenilworth
DESCRIPTION:All day every Tuesday\, enjoy a free dab bit with any purchase over R100 on the house! \nChoose from great selection of BHO options.
URL:https://sekndnature.com/event/dab-tuesday-kenilworth-2/
LOCATION:Seknd Nature Kenilworth\, 274 Main Road Kenilworth\, Cape Town\, Western Cape\, 7708\, South Africa
CATEGORIES:Promotion
END:VEVENT
BEGIN:VEVENT
DTSTART;TZID=Africa/Johannesburg:20241022T090000
DTEND;TZID=Africa/Johannesburg:20241022T180000
DTSTAMP:20260424T070424
CREATED:20241008T185516Z
LAST-MODIFIED:20241008T185516Z
UID:19642-1729587600-1729620000@sekndnature.com
SUMMARY:Dab Tuesday Somerset West
DESCRIPTION:All day every Tuesday\, enjoy a free dab bit with any purchase over R100 on the house! \nChoose from great selection of BHO options.
URL:https://sekndnature.com/event/dab-tuesday-somerset-west-3/
LOCATION:Seknd Nature Somerset West\, G03 House of Levi 12A De Beers Avenue\, Paardevlei Somerset West\, Cape Town\, Western Cape\, 7130\, South Africa
CATEGORIES:Promotion
END:VEVENT
BEGIN:VEVENT
DTSTART;TZID=Africa/Johannesburg:20241021T090000
DTEND;TZID=Africa/Johannesburg:20241021T180000
DTSTAMP:20260424T070424
CREATED:20241008T184531Z
LAST-MODIFIED:20241008T184714Z
UID:19634-1729501200-1729533600@sekndnature.com
SUMMARY:Rainbow Monday Somerset West
DESCRIPTION:Everyone agrees – Blue Monday’s are no fun :( \nAll day every Monday\, enjoy our Mixed Strain Rainbow Joints. \nWin the lottery with every toke.
URL:https://sekndnature.com/event/rainbow-monday-somerset-west/
LOCATION:Seknd Nature Somerset West\, G03 House of Levi 12A De Beers Avenue\, Paardevlei Somerset West\, Cape Town\, Western Cape\, 7130\, South Africa
CATEGORIES:Promotion
END:VEVENT
BEGIN:VEVENT
DTSTART;TZID=Africa/Johannesburg:20241020T090000
DTEND;TZID=Africa/Johannesburg:20241020T170000
DTSTAMP:20260424T070424
CREATED:20241008T185912Z
LAST-MODIFIED:20241008T185912Z
UID:19653-1729414800-1729443600@sekndnature.com
SUMMARY:Dab Sunday Kalk Bay
DESCRIPTION:All day every Sunday\, enjoy a free dab bit with any purchase over R100 on the house! \nChoose from great selection of BHO options.
URL:https://sekndnature.com/event/dab-sunday-kalk-bay-2/
LOCATION:Seknd Nature Kalk Bay\, 124 Main Road Kalk Bay\, Cape Town\, Western Cape\, 7975\, South Africa
CATEGORIES:Promotion
END:VEVENT
BEGIN:VEVENT
DTSTART;TZID=Africa/Johannesburg:20241020T090000
DTEND;TZID=Africa/Johannesburg:20241020T150000
DTSTAMP:20260424T070424
CREATED:20241008T190016Z
LAST-MODIFIED:20241008T190016Z
UID:19652-1729414800-1729436400@sekndnature.com
SUMMARY:Dab Sunday Kenilworth
DESCRIPTION:All day every Sunday\, enjoy a free dab bit with any purchase over R100 on the house! \nChoose from great selection of BHO options.
URL:https://sekndnature.com/event/dab-sunday-kenilworth-2/
LOCATION:Seknd Nature Kenilworth\, 274 Main Road Kenilworth\, Cape Town\, Western Cape\, 7708\, South Africa
CATEGORIES:Promotion
END:VEVENT
BEGIN:VEVENT
DTSTART;TZID=Africa/Johannesburg:20241019T100000
DTEND;TZID=Africa/Johannesburg:20241019T140000
DTSTAMP:20260424T070424
CREATED:20241008T190512Z
LAST-MODIFIED:20241008T190512Z
UID:19661-1729332000-1729346400@sekndnature.com
SUMMARY:Dab Saturday Somerset West
DESCRIPTION:All day every Saturday\, enjoy a free dab bit with any purchase over R100 on the house! \nChoose from great selection of BHO options.
URL:https://sekndnature.com/event/dab-saturday-somerset-west-2/
LOCATION:Seknd Nature Somerset West\, G03 House of Levi 12A De Beers Avenue\, Paardevlei Somerset West\, Cape Town\, Western Cape\, 7130\, South Africa
CATEGORIES:Promotion
END:VEVENT
BEGIN:VEVENT
DTSTART;TZID=Africa/Johannesburg:20241015T090000
DTEND;TZID=Africa/Johannesburg:20241015T190000
DTSTAMP:20260424T070424
CREATED:20241008T185625Z
LAST-MODIFIED:20241008T185625Z
UID:19645-1728982800-1729018800@sekndnature.com
SUMMARY:Dab Tuesday Kalk Bay
DESCRIPTION:All day every Tuesday\, enjoy a free dab bit with any purchase over R100 on the house! \nChoose from great selection of BHO options.
URL:https://sekndnature.com/event/dab-tuesday-kalk-bay-2/
LOCATION:Seknd Nature Kalk Bay\, 124 Main Road Kalk Bay\, Cape Town\, Western Cape\, 7975\, South Africa
CATEGORIES:Promotion
END:VEVENT
BEGIN:VEVENT
DTSTART;TZID=Africa/Johannesburg:20241015T090000
DTEND;TZID=Africa/Johannesburg:20241015T180000
DTSTAMP:20260424T070424
CREATED:20241008T185307Z
LAST-MODIFIED:20241008T185307Z
UID:19640-1728982800-1729015200@sekndnature.com
SUMMARY:Dab Tuesday Somerset West
DESCRIPTION:All day every Tuesday\, enjoy a free dab bit with any purchase over R100 on the house! \nChoose from great selection of BHO options.
URL:https://sekndnature.com/event/dab-tuesday-somerset-west-2/
LOCATION:Seknd Nature Somerset West\, G03 House of Levi 12A De Beers Avenue\, Paardevlei Somerset West\, Cape Town\, Western Cape\, 7130\, South Africa
CATEGORIES:Promotion
END:VEVENT
BEGIN:VEVENT
DTSTART;TZID=Africa/Johannesburg:20241015T090000
DTEND;TZID=Africa/Johannesburg:20241015T180000
DTSTAMP:20260424T070424
CREATED:20241008T185133Z
LAST-MODIFIED:20241008T185133Z
UID:19638-1728982800-1729015200@sekndnature.com
SUMMARY:Dab Tuesday Kenilworth
DESCRIPTION:All day every Tuesday\, enjoy a free dab bit with any purchase over R100 on the house! \nChoose from great selection of BHO options.
URL:https://sekndnature.com/event/dab-tuesday-kenilworth/
LOCATION:Seknd Nature Kenilworth\, 274 Main Road Kenilworth\, Cape Town\, Western Cape\, 7708\, South Africa
CATEGORIES:Promotion
END:VEVENT
BEGIN:VEVENT
DTSTART;TZID=Africa/Johannesburg:20241014T090000
DTEND;TZID=Africa/Johannesburg:20241014T180000
DTSTAMP:20260424T070424
CREATED:20241008T181901Z
LAST-MODIFIED:20241008T184714Z
UID:19611-1728896400-1728928800@sekndnature.com
SUMMARY:Rainbow Monday Somerset West
DESCRIPTION:Everyone agrees – Blue Monday’s are no fun :( \nAll day every Monday\, enjoy our Mixed Strain Rainbow Joints. \nWin the lottery with every toke.
URL:https://sekndnature.com/event/dab-tuesday/
LOCATION:Seknd Nature Somerset West\, G03 House of Levi 12A De Beers Avenue\, Paardevlei Somerset West\, Cape Town\, Western Cape\, 7130\, South Africa
CATEGORIES:Promotion
END:VEVENT
BEGIN:VEVENT
DTSTART;TZID=Africa/Johannesburg:20241013T090000
DTEND;TZID=Africa/Johannesburg:20241013T170000
DTSTAMP:20260424T070424
CREATED:20241008T182758Z
LAST-MODIFIED:20241008T184714Z
UID:19620-1728810000-1728838800@sekndnature.com
SUMMARY:Dab Sunday Kalk Bay
DESCRIPTION:All day every Sunday\, enjoy a free dab bit with any purchase over R100 on the house! \nChoose from great selection of BHO options.
URL:https://sekndnature.com/event/dab-sunday-kalk-bay/
LOCATION:Seknd Nature Kalk Bay\, 124 Main Road Kalk Bay\, Cape Town\, Western Cape\, 7975\, South Africa
CATEGORIES:Promotion
END:VEVENT
END:VCALENDAR