BEGIN:VCALENDAR
VERSION:2.0
PRODID:-//Seknd Nature - ECPv6.15.14//NONSGML v1.0//EN
CALSCALE:GREGORIAN
METHOD:PUBLISH
X-ORIGINAL-URL:https://sekndnature.com
X-WR-CALDESC:Events for Seknd Nature
REFRESH-INTERVAL;VALUE=DURATION:PT1H
X-Robots-Tag:noindex
X-PUBLISHED-TTL:PT1H
BEGIN:VTIMEZONE
TZID:Africa/Johannesburg
BEGIN:STANDARD
TZOFFSETFROM:+0200
TZOFFSETTO:+0200
TZNAME:SAST
DTSTART:20240101T000000
END:STANDARD
END:VTIMEZONE
BEGIN:VEVENT
DTSTART;TZID=Africa/Johannesburg:20251210T190000
DTEND;TZID=Africa/Johannesburg:20251210T220000
DTSTAMP:20260424T042112
CREATED:20251210T092910Z
LAST-MODIFIED:20251211T074354Z
UID:145449-1765393200-1765404000@sekndnature.com
SUMMARY:Strain Society: Festive Pairing Dinner
DESCRIPTION:Seknd Nature Kalk Bay – Saturday 20 December\, 19:00 \nThis Strain Society is not just a tasting – it is a festive sit-down dinner designed for slow enjoyment. \nOn Saturday 20 December at 19:00\, Seknd Nature Kalk Bay hosts a special edition of Strain Society: a three-course pairing menu from Bella Piata\, matched with three strains curated to complement each course. \nFor R550 per person\, you get: \n\nA welcome infused virgin mojito\nA three-course set menu (with choices at starter and main)\nThree guided strain testers\, paired to each course\nHosted in the intimate Seknd Nature Kalk Bay lounge\n\nPerfect for: end-of-year wind-downs\, friend nights\, early “festive season” rituals\, and anyone who loves food and flower in equal measure. \n\nWhat’s on the Menu\nWELCOME REFRESHMENT \nInfused Virgin MojitoFresh mint\, lime\, and a gentle infusion for the perfect start. \nSTARTERS – choose one \nBeetroot & Walnut SaladRoasted beetroot\, candied walnuts\, citrus dressing. \nOR \nFish Tikka Bombs (2 pcs)Crispy puris filled with spiced fish tikka. \nOR \nPotato Cheese Balls (2 pcs)Golden potato balls with a creamy cheese centre. \nMAIN COURSE – choose one \nChickpea Curry & Coconut RiceSlow-cooked chickpeas with fragrant coconut rice. \nOR \nSpaghetti PestoFresh basil pesto\, Parmesan\, and toasted pine nuts. \nOR \nChicken CampagnolaGrilled chicken breast in a rustic tomato and olive sauce. \nDESSERT \nInfused Apple CakeWarm spiced apple cake with creamy vanilla ice cream. \nEach course will be paired with a complementary strain\, selected by the Seknd Nature team to mirror the mood and flavour of the plate in front of you. \n\nWhat Your Ticket Includes – R550\n\nWelcome infused virgin mojito\nThree-course Bella Piata menu (starter\, main\, dessert)\nThree strain testers (one per course)\nGuided tasting and pairing insights from the Strain Society host\nFestive\, intimate lounge setting at Seknd Nature Kalk Bay\n\n\nEvent Details\n\nDate: Saturday\, 20 December\nTime: 19:00 – 21:30 (arrive from 18:45)\nLocation: Seknd Nature Kalk Bay\nTickets: R550 per person\nIncludes: 3-course menu + 3 strain testers\n\nSeats are very limited to keep the experience intimate and guided. \nBooking:Secure your seat via our email by enailing dylan@sekndnature.com \nor  GET TICKETS HERE 
URL:https://sekndnature.com/event/strain-society-festive-pairing-dinner/
LOCATION:Western cape
END:VEVENT
END:VCALENDAR