BEGIN:VCALENDAR
VERSION:2.0
PRODID:-//Seknd Nature - ECPv6.15.14//NONSGML v1.0//EN
CALSCALE:GREGORIAN
METHOD:PUBLISH
X-ORIGINAL-URL:https://sekndnature.com
X-WR-CALDESC:Events for Seknd Nature
REFRESH-INTERVAL;VALUE=DURATION:PT1H
X-Robots-Tag:noindex
X-PUBLISHED-TTL:PT1H
BEGIN:VTIMEZONE
TZID:Africa/Johannesburg
BEGIN:STANDARD
TZOFFSETFROM:+0200
TZOFFSETTO:+0200
TZNAME:SAST
DTSTART:20240101T000000
END:STANDARD
END:VTIMEZONE
BEGIN:VEVENT
DTSTART;TZID=Africa/Johannesburg:20251206T183000
DTEND;TZID=Africa/Johannesburg:20251206T203000
DTSTAMP:20260424T042012
CREATED:20251113T115656Z
LAST-MODIFIED:20251113T125143Z
UID:144755-1765045800-1765053000@sekndnature.com
SUMMARY:420 Strain Society — Somerset West
DESCRIPTION:Friday\, 6 December • 18:30–20:30Seknd Nature Somerset West \nThe ritual\nStrain Society is Seknd Nature’s flagship tasting experience—an evening of education\, discovery\, and shared appreciation. We explore the chemistry behind flavour\, aroma\, and effect\, comparing cultivars side-by-side before casting our votes for the Strain of the Night. It’s cannabis culture\, refined. \nThis session\n\nSummer showcase: Three new cultivars curated for the festive season\nHosted by: Charlie — Seknd Nature Head Tester (chemical engineer with a passion for precision and palate)\nFormat: Guided tasting flight\, palate resets\, comparative notes\, and open Q&A\n\nWhat you get\n\nA guided flight of 3 cultivars (aroma → flavour → effect)\nTasting scorecard and aroma wheel to chart your preferences\nPalate cleansers and water\nCommunity vote for Strain of the Night + small prize draw\n\nRun of show\n\n18:30 Arrival\, palate prep\, and introductions\n18:45 Tasting method + Terpenes 101\n19:00 Guided flight (A/B/C) and discussion\n20:00 Open lounge: retastes\, insights\, and recommendations\n20:25 Vote & wrap\n\nTickets & RSVP\n\nMembers: R150\nGuest Pass: R200 (includes day-membership access)\nHow it works: RSVP to secure your seat\, pay on arrival (card or cash). Strictly limited capacity—intimate by design.\n\nWho it’s for\nPerfect for anyone wanting to understand the nuances of flavour\, chemistry\, and effect—and how to choose strains that truly suit their lifestyle. Whether you’re exploring or fine-tuning your taste\, this session deepens your connection to the plant and your palate. \nHouse rules\n\nPrivate\, membership-only event. 18+ with ID required.\nArrive 10 minutes early to get settled before the first tasting.\nOn-site consumption only—plan your ride responsibly.\n\nVenue\nSeknd Nature Somerset WestA warm\, welcoming lounge built for conversation and community. Expect calm lighting\, attentive hosts\, and a relaxed energy that sets the tone for discovery.
URL:https://sekndnature.com/event/420-strain-society-somerset-west-2/
LOCATION:Seknd Nature Somerset West\, G03 House of Levi 12A De Beers Avenue\, Paardevlei Somerset West\, Cape Town\, Western Cape\, 7130\, South Africa
END:VEVENT
END:VCALENDAR