BEGIN:VCALENDAR
VERSION:2.0
PRODID:-//Seknd Nature - ECPv6.15.14//NONSGML v1.0//EN
CALSCALE:GREGORIAN
METHOD:PUBLISH
X-ORIGINAL-URL:https://sekndnature.com
X-WR-CALDESC:Events for Seknd Nature
REFRESH-INTERVAL;VALUE=DURATION:PT1H
X-Robots-Tag:noindex
X-PUBLISHED-TTL:PT1H
BEGIN:VTIMEZONE
TZID:Africa/Johannesburg
BEGIN:STANDARD
TZOFFSETFROM:+0200
TZOFFSETTO:+0200
TZNAME:SAST
DTSTART:20240101T000000
END:STANDARD
END:VTIMEZONE
BEGIN:VEVENT
DTSTART;TZID=Africa/Johannesburg:20251205T183000
DTEND;TZID=Africa/Johannesburg:20251205T203000
DTSTAMP:20260424T042112
CREATED:20251113T115211Z
LAST-MODIFIED:20251205T113612Z
UID:144752-1764959400-1764966600@sekndnature.com
SUMMARY:420 Strain Society — Kenilworth
DESCRIPTION:Friday\, 5 December • 18:30–20:30Seknd Nature Kenilworth \nThe ritual\nStrain Society is Seknd Nature’s signature guided tasting night—part education\, part ritual\, and entirely about discovery. We explore terpene profiles\, side-by-side cultivar comparisons\, and sensory notes\, ending with the community vote for Strain of the Night. It’s how we turn cannabis tasting into culture. \nThis session\n\nFresh line-up: Three new cultivars for the summer series debut\nHosted by: Charlie — Seknd Nature’s Head Tester (chemical engineer and resident flavour obsessive)\nFormat: Guided tasting flight\, palate resets\, comparative notes\, open discussion\n\nWhat you get\n\nA guided flight of 3 cultivars (aroma → flavour → effect)\nTasting scorecard and aroma wheel to map your preferences\nPalate cleansers and water\nCommunity vote for Strain of the Night + small prize draw\n\nRun of show\n\n18:30 Arrival\, palate reset\, and introduction\n18:45 Tasting method + Terpenes 101 walkthrough\n19:00 Guided flight (A/B/C) and discussion\n20:00 Open lounge: retastes\, questions\, and reflections\n20:25 Vote & wrap\n\nTickets & RSVP\n\nMembers: R150\nGuest Pass: R200 (includes day-membership access)\nHow it works: RSVP to secure your seat\, pay on arrival (card or cash). Limited seats—first come\, first seated\n\nWho it’s for\nThose curious to explore cannabis with a more refined palate. From curious newcomers to long-time enthusiasts—Strain Society is for anyone who wants to connect flavour\, chemistry\, and experience in a community setting. \nHouse rules\n\nPrivate\, membership-only environment. 18+ with ID.\nPlease arrive 10 minutes early for calibration.\nOn-site consumption only; plan your ride home.\n\nVenue\nSeknd Nature KenilworthAn intimate\, relaxed lounge designed for conversation\, discovery\, and connection. Expect comfortable seating\, attentive hosts\, and the unmistakable Seknd Nature atmosphere.
URL:https://sekndnature.com/event/420-strain-society-kenilworth/
LOCATION:Seknd Nature Kenilworth\, 274 Main Road Kenilworth\, Cape Town\, Western Cape\, 7708\, South Africa
END:VEVENT
END:VCALENDAR