BEGIN:VCALENDAR
VERSION:2.0
PRODID:-//Seknd Nature - ECPv6.15.14//NONSGML v1.0//EN
CALSCALE:GREGORIAN
METHOD:PUBLISH
X-ORIGINAL-URL:https://sekndnature.com
X-WR-CALDESC:Events for Seknd Nature
REFRESH-INTERVAL;VALUE=DURATION:PT1H
X-Robots-Tag:noindex
X-PUBLISHED-TTL:PT1H
BEGIN:VTIMEZONE
TZID:Africa/Johannesburg
BEGIN:STANDARD
TZOFFSETFROM:+0200
TZOFFSETTO:+0200
TZNAME:SAST
DTSTART:20240101T000000
END:STANDARD
END:VTIMEZONE
BEGIN:VEVENT
DTSTART;TZID=Africa/Johannesburg:20251127T183000
DTEND;TZID=Africa/Johannesburg:20251127T203000
DTSTAMP:20260424T071732
CREATED:20251113T115014Z
LAST-MODIFIED:20251120T171705Z
UID:144749-1764268200-1764275400@sekndnature.com
SUMMARY:420 Strain Society — Kalk Bay
DESCRIPTION:Thursday\, 27 November • 18:30–20:30Seknd Nature Kalk Bay \nThe ritual\nStrain Society is Seknd Nature’s signature tasting evening—equal parts ritual\, education\, and community. We slow down\, explore terpene complexity\, compare cultivars side-by-side\, and finish by voting for the “Strain of the Night.” It’s cannabis appreciation at its most intentional. \nThis session\n\nFeature: Three new cultivars landing at Kalk Bay first\nHosted by: Charlie — Seknd Nature Head Tester (chemical engineer\, sensory analyst\, and guide for the night)\nFormat: Structured tasting flight\, palate resets\, guided comparison\, and open Q&A\n\nWhat you get\n\nA guided flight of 3 cultivars (aroma → flavour → effect)\nTasting scorecard and aroma wheel to chart your preferences\nPalate cleansers and water\nCommunity vote for Strain of the Night + small prize draw\n\nRun of show\n\n18:30 Arrival\, palate prep\, and intro\n18:45 Tasting method + Terpenes 101\n19:00 Guided flight (A/B/C) with notes and discussion\n20:00 Open lounge: retastes\, recommendations\, and reflection\n20:25 Vote & wrap\n\nTickets & RSVP\n\nMembers: R100\nHow it works: RSVP to secure your seat. Capacity is intentionally limited for focus and flow.\n\nWho it’s for\nFrom first-time tasters to long-time connoisseurs—anyone curious about the connection between flavour\, chemistry\, and effect. Each session offers a new set of cultivars and insights to expand your cannabis palate. \nHouse rules\n\nPrivate\, membership-only event. 18+ with ID required.\nArrive 10 minutes early to get settled and calibrated.\nOn-site consumption only—plan transport responsibly.\n\nVenue\nSeknd Nature Kalk BayA coastal lounge built for sensory experience—warm light\, ocean air\, and an intimate atmosphere that makes every tasting feel personal.
URL:https://sekndnature.com/event/420-strain-society-kalk-bay/
LOCATION:Seknd Nature Kalk Bay\, 124 Main Road Kalk Bay\, Cape Town\, Western Cape\, 7975\, South Africa
END:VEVENT
END:VCALENDAR