BEGIN:VCALENDAR
VERSION:2.0
PRODID:-//Seknd Nature - ECPv6.15.14//NONSGML v1.0//EN
CALSCALE:GREGORIAN
METHOD:PUBLISH
X-ORIGINAL-URL:https://sekndnature.com
X-WR-CALDESC:Events for Seknd Nature
REFRESH-INTERVAL;VALUE=DURATION:PT1H
X-Robots-Tag:noindex
X-PUBLISHED-TTL:PT1H
BEGIN:VTIMEZONE
TZID:Africa/Johannesburg
BEGIN:STANDARD
TZOFFSETFROM:+0200
TZOFFSETTO:+0200
TZNAME:SAST
DTSTART:20240101T000000
END:STANDARD
END:VTIMEZONE
BEGIN:VEVENT
DTSTART;TZID=Africa/Johannesburg:20251121T183000
DTEND;TZID=Africa/Johannesburg:20251121T203000
DTSTAMP:20260424T071642
CREATED:20251112T092834Z
LAST-MODIFIED:20251113T125326Z
UID:144706-1763749800-1763757000@sekndnature.com
SUMMARY:420 Strain Society — Plattekloof
DESCRIPTION:Thursday\, 21 November • 18:30–20:30Seknd Nature Plattekloof \nThe ritual\nStrain Society is our guided tasting evening—part education\, part discovery\, all community. We slow things down\, decode terpenes\, compare cultivars side-by-side\, and vote for “Strain of the Night.” It’s the most enjoyable way to get smarter about what you enjoy and why. \nThis session\n\nFirst taste drop: Three fresh cultivars making their Plattekloof debut\nHosted by: Charlie — Seknd Nature Head Tester (yes\, the chemical-engineer one)\nFormat: Structured flight\, palate resets\, comparative notes\, open Q&A\n\nWhat you get\n\nA guided flight of 3 cultivars (aroma → flavour → effect)\nTasting scorecard and aroma wheel to track your preferences\nPalate cleansers and water\nCommunity vote for Strain of the Night + small prize for one lucky taster\n\nRun of show\n\n18:30 Check-in\n18:45 Tasting method\, terpenes 101\, how to note properly\n19:00 Guided flight (A/B/C) with comparative discussion\n20:00 Open lounge: questions\, retastes\, recommendations\n20:25 Vote & wrap\n\nTickets & RSVP\n\nMembers: R150\nHow it works: RSVP to secure your seat\, pay on arrival (card/cash). Extremely limited capacity.\n\n[RSVP — Save My Seat]\nWho it’s for\nCurious newcomers\, seasoned connoisseurs\, and anyone who wants to match effect to occasion—from focus and daytime clarity to evening unwind. \nHouse rules\n\nPrivate\, membership-only environment. 18+ with ID.\nThis is a curated tasting and education evening—please arrive 10 minutes early.\nConsumption is on-site only; plan transport accordingly.\n\nVenue\nSeknd Nature PlattekloofComfortable lounge setting\, great airflow\, attentive hosts\, and the signature Seknd Nature service you know. \n\nBehavioural nudge (Rory note): Seats are intentionally scarce to keep comparisons tight and discussion lively. Once they’re gone\, they’re gone—book now while availability is still a question rather than a regret.
URL:https://sekndnature.com/event/420-strain-society-plattekloof/
LOCATION:Seknd Nature Plattekloof\, 1 Keurboom Crescent\, Plattekloof\, Western Cape\, 7500\, South Africa
END:VEVENT
END:VCALENDAR