BEGIN:VCALENDAR
VERSION:2.0
PRODID:-//Seknd Nature - ECPv6.15.14//NONSGML v1.0//EN
CALSCALE:GREGORIAN
METHOD:PUBLISH
X-WR-CALNAME:Seknd Nature
X-ORIGINAL-URL:https://sekndnature.com
X-WR-CALDESC:Events for Seknd Nature
REFRESH-INTERVAL;VALUE=DURATION:PT1H
X-Robots-Tag:noindex
X-PUBLISHED-TTL:PT1H
BEGIN:VTIMEZONE
TZID:Africa/Johannesburg
BEGIN:STANDARD
TZOFFSETFROM:+0200
TZOFFSETTO:+0200
TZNAME:SAST
DTSTART:20240101T000000
END:STANDARD
END:VTIMEZONE
BEGIN:VEVENT
DTSTART;TZID=Africa/Johannesburg:20251108T180000
DTEND;TZID=Africa/Johannesburg:20251108T200000
DTSTAMP:20260424T072355
CREATED:20251103T114655Z
LAST-MODIFIED:20251108T103110Z
UID:143524-1762624800-1762632000@sekndnature.com
SUMMARY:420 Strain Society — Somerset West
DESCRIPTION:Find Your House ProfileSaturday\, 8 November · 7:00–9:30 pmSeknd Nature — Somerset West (members-only\, 18+) \nTrain your palate—not your tolerance. In one focused evening you’ll compare cultivars side-by-side\, decode their terpene signatures\, and leave knowing exactly which strains (and times of day) suit you. \n\nWhy come\n\nStop guessing\, start choosing. Learn a simple tasting method you can repeat forever.\nBetter sessions\, better spend. Discover what actually works for your mood\, sleep\, and focus—so you don’t waste money.\nKeep the map. Take home your Aroma Wheel and Scorecard so your preferences stick.\n\n\nWhat’s in the glass (so to speak)\n\nCurated Flight (4–5 cultivars): Progression across flavour families—citrus\, dessert\, gas\, fruit—for crisp contrast.\nGuided Sensory Method: Nosing → dry pull → first-draw → effect tracking\, led by the Seknd Nature team.\nPreference Mapping: We translate your notes into a clear “house profile” and time-of-day guide.\nPalate Cleansers & Water: Reset between rounds so each cultivar gets a fair hearing.\n\nDesign principle: comparison creates memory; a scorecard creates commitment. \n\nFlow of the evening\n\n6:50 pm — Arrive & check-in (first aromas)\n7:15 pm — Palate primer & method\n7:20–9:10 pm — Guided tasting flight (short breaks)\n9:10–9:30 pm — Preference mapping\, Q&A\, wrap\n\n\nSeats & booking\nThis is an intimate\, seated session for sensory focus. Very limited capacity.Secure your seat—your Aroma Wheel + Scorecard are waiting at check-in.Booking link: [Add Quicket URL]\n\nGood to know\n\nMembers-only\, 18+. Join/renew on arrival if needed.\nPrivate collective context. Educational tasting; no public sales.\nRide-share recommended. Know your limits—don’t drive after tasting.\nPhones discreet. Photos welcome; keep fellow members private.\n\n\nFAQs\nDo I need experience?No. We’ll teach a repeatable method that makes tasting simple. \nWill I know the exact lineup?We reveal the cultivars on the night to keep minds open and bias low. \nCan I come solo?Absolutely. The community table format is relaxed and social without pressure. \n\nWhy Seknd Nature\nCeremony over hype. Comparison over opinion. Strain Society turns curiosity into taste—and taste into confident choices. \nCTA: Reserve your seat for 8 November · 7:00–9:30 pm (Somerset West)
URL:https://sekndnature.com/event/420-strain-society-somerset-west/
LOCATION:Seknd Nature Somerset West\, G03 House of Levi 12A De Beers Avenue\, Paardevlei Somerset West\, Cape Town\, Western Cape\, 7130\, South Africa
END:VEVENT
END:VCALENDAR