BEGIN:VCALENDAR
VERSION:2.0
PRODID:-//Seknd Nature - ECPv6.15.14//NONSGML v1.0//EN
CALSCALE:GREGORIAN
METHOD:PUBLISH
X-WR-CALNAME:Seknd Nature
X-ORIGINAL-URL:https://sekndnature.com
X-WR-CALDESC:Events for Seknd Nature
REFRESH-INTERVAL;VALUE=DURATION:PT1H
X-Robots-Tag:noindex
X-PUBLISHED-TTL:PT1H
BEGIN:VTIMEZONE
TZID:Africa/Johannesburg
BEGIN:STANDARD
TZOFFSETFROM:+0200
TZOFFSETTO:+0200
TZNAME:SAST
DTSTART:20240101T000000
END:STANDARD
END:VTIMEZONE
BEGIN:VEVENT
DTSTART;TZID=Africa/Johannesburg:20251106T160000
DTEND;TZID=Africa/Johannesburg:20251106T190000
DTSTAMP:20260424T072355
CREATED:20250901T155710Z
LAST-MODIFIED:20251020T090820Z
UID:121436-1762444800-1762455600@sekndnature.com
SUMMARY:First Thursdays Down South — Kalk Bay
DESCRIPTION:  \nFirst Thursdays Down South — Kalk BayThursday\, 6 November 2025 · 4:00 PM – 10:00 PMSeknd Nature\, Kalk Bay \n\nCulture\, Competition & Cocktails\nFirst Thursdays return Down South — and this round\, we’re going bigger. \nAt Seknd Nature Kalk Bay\, we’re hosting an evening that blurs the line between play and ritual. Expect high spirits\, low stress\, and a little friendly rivalry — all wrapped in that unmistakable Kalk Bay energy. \n\nEvent Highlights\nWeed Olympics — test your skill\, timing\, and tolerance in a series of lighthearted challenges designed for legends in the making.Interactive Games — from quick reflex tests to group competitions; part play\, part community experiment.Infused Cocktails — crafted for conversation\, built for discovery. Each one tells its own story.Zootly Pop-Up — exclusive collab with the icons of local cannabis culture. Limited drops and giveaways throughout the evening. \n\nEvent Details\n📍 Venue: Seknd Nature\, Kalk Bay📅 Date: Thursday\, 6 November 2025🕓 Time: 4:00 PM – 10:00 PM🍃 Format: Open house · games · tastings · community \n\nWhy You Shouldn’t Miss It\nThis is First Thursdays reimagined — less gallery\, more gathering.Where competition meets culture\, cocktails meet curiosity\, and every round feels like a story you’ll want to retell. \nFree Entry · Limited Space
URL:https://sekndnature.com/event/first-thursdays-down-south-kalk-bay/
LOCATION:Seknd Nature Kalk Bay\, 124 Main Road Kalk Bay\, Cape Town\, Western Cape\, 7975\, South Africa
ATTACH;FMTTYPE=image/jpeg:https://sekndnature.com/wp-content/uploads/FTDS-4-Sept-e1756743732400.jpg
END:VEVENT
BEGIN:VEVENT
DTSTART;TZID=Africa/Johannesburg:20251106T190000
DTEND;TZID=Africa/Johannesburg:20251106T223000
DTSTAMP:20260424T072355
CREATED:20251026T091530Z
LAST-MODIFIED:20251026T092000Z
UID:141367-1762455600-1762468200@sekndnature.com
SUMMARY:First Thursdays Comedy Night | Seknd Nature Bree Street
DESCRIPTION:📍 190 Bree Street\, Cape Town📅 Thursday\, 6 November | Doors 6:30 PM | Show 7:00 PM – 9:30 PM \nLaughter meets lounge life. This First Thursday\, Seknd Nature turns its Bree Street smoke lounge into Cape Town’s most elevated comedy club. \nLine-up:🎤 Host: Mel Jones⭐ Headliner: Stuart Taylor \nFeaturing: Candace Fortune\, Wesley Paulse\, Chuma Bentele & Jaryd Pillay(Line-up subject to change) \nTickets — R150The first 10 tickets include a complimentary indoor pre-roll / Edible — because every good set deserves a good spark.\nDoors open early for pre-show vibes\, mocktails\, and premium cannabis pairings. Show starts 7:00 PM\, lights down 7:30 sharp. \nLimited seats. Big laughs. Bree Street energy.Get your ticket now and make your First Thursday a high point.
URL:https://sekndnature.com/event/first-thursdays-comedy-night-seknd-nature-bree-street/
LOCATION:Seknd Nature Bree Street\, 190 Bree street\, Cape Town\, western Cape\, 8001\, South Africa
ATTACH;FMTTYPE=image/jpeg:https://sekndnature.com/wp-content/uploads/comedy-night-Made-with-PosterMyWall-1.jpg
END:VEVENT
END:VCALENDAR