BEGIN:VCALENDAR
VERSION:2.0
PRODID:-//Seknd Nature - ECPv6.15.14//NONSGML v1.0//EN
CALSCALE:GREGORIAN
METHOD:PUBLISH
X-ORIGINAL-URL:https://sekndnature.com
X-WR-CALDESC:Events for Seknd Nature
REFRESH-INTERVAL;VALUE=DURATION:PT1H
X-Robots-Tag:noindex
X-PUBLISHED-TTL:PT1H
BEGIN:VTIMEZONE
TZID:Africa/Johannesburg
BEGIN:STANDARD
TZOFFSETFROM:+0200
TZOFFSETTO:+0200
TZNAME:SAST
DTSTART:20240101T000000
END:STANDARD
END:VTIMEZONE
BEGIN:VEVENT
DTSTART;TZID=Africa/Johannesburg:20250903T170000
DTEND;TZID=Africa/Johannesburg:20250903T200000
DTSTAMP:20260424T113048
CREATED:20250829T111543Z
LAST-MODIFIED:20250901T163002Z
UID:119158-1756918800-1756929600@sekndnature.com
SUMMARY:420 Film Society: 21 Jump Street
DESCRIPTION:Seknd Nature 420 Film Society: 21 Jump Street \nDate: Wednesday\, 03 SeptemberTime: 5:00 PM – 9:00 PMLocation: Seknd Nature\, Kalk Bay \nSome films remind you that authority is a costume. 21 Jump Street goes further — showing you what happens when that costume doesn’t quite fit. It’s part buddy-comedy\, part undercover farce\, and entirely more enjoyable when shared in a room where everyone’s already primed to laugh. \nThis month\, the 420 Film Society trades high school lockers for ocean views. The question is simple: what happens when two hopeless cops try to relive adolescence? The answer: more chaos\, more laughter\, and more moments that demand to be experienced in company\, not isolation. \nWhy you’ll want to be there: \n\nBecause comedy works best when you hear strangers laughing louder than you.\nBecause our lounge doesn’t just screen films — it sets the state of mind.\nBecause watching 21 Jump Street at home is like sneaking booze into a soda can: it works\, but you’ve missed the fun of doing it openly.\n\nWhat to expect: \n\nA big-screen communal screening of 21 Jump Street\nThe Kalk Bay vibe: cinema\, lounge\, and community by the sea\nDrinks\, snacks\, and conversations that prove the film isn’t the end — it’s the spark\n\n🎟️ Seats are scarce.
URL:https://sekndnature.com/event/420-film-society-21jump/
LOCATION:Seknd Nature Kalk Bay\, 124 Main Road Kalk Bay\, Cape Town\, Western Cape\, 7975\, South Africa
ATTACH;FMTTYPE=image/webp:https://sekndnature.com/wp-content/uploads/21jump-jumbo-e1756744184243.webp
END:VEVENT
END:VCALENDAR