BEGIN:VCALENDAR
VERSION:2.0
PRODID:-//Seknd Nature - ECPv6.15.14//NONSGML v1.0//EN
CALSCALE:GREGORIAN
METHOD:PUBLISH
X-WR-CALNAME:Seknd Nature
X-ORIGINAL-URL:https://sekndnature.com
X-WR-CALDESC:Events for Seknd Nature
REFRESH-INTERVAL;VALUE=DURATION:PT1H
X-Robots-Tag:noindex
X-PUBLISHED-TTL:PT1H
BEGIN:VTIMEZONE
TZID:Africa/Johannesburg
BEGIN:STANDARD
TZOFFSETFROM:+0200
TZOFFSETTO:+0200
TZNAME:SAST
DTSTART:20240101T000000
END:STANDARD
END:VTIMEZONE
BEGIN:VEVENT
DTSTART;TZID=Africa/Johannesburg:20250820T170000
DTEND;TZID=Africa/Johannesburg:20250820T200000
DTSTAMP:20260424T123550
CREATED:20250818T100110Z
LAST-MODIFIED:20250818T131332Z
UID:114970-1755709200-1755720000@sekndnature.com
SUMMARY:420 Film Society Dazed and Confused
DESCRIPTION:Seknd Nature 420 Film Society: Dazed and Confused\nDate: Wednesday\, 20 AugustTime: 5:00 PM – 09:00 PMLocation: Seknd Nature\, Kalk Bay \nSome films aren’t just watched — they’re experienced. Dazed and Confused is one of them. A cult classic that defined an era\, it’s less a movie than a rite of passage. \nThis month\, the 420 Film Society brings the haze to the seaside. At our Kalk Bay branch\, the lounge becomes a time capsule of the summer of ’76 — the laughter\, the music\, the mayhem. It’s a reminder of why this film still resonates decades later: freedom\, rebellion\, and the joy of not taking life too seriously. \nWhy join us? \n\n\nBecause Dazed and Confused deserves more than a couch rewatch. \n\n\nBecause our cannabis-friendly lounge doesn’t just set the scene — it amplifies it. \n\n\nBecause sharing the ride with a room full of like-minded people makes the film unforgettable. \n\n\nWhat to expect: \n\n\nA big-screen communal screening of Dazed and Confused \n\n\nThe Kalk Bay vibe: cinema\, lounge\, and community by the sea \n\n\nDrinks\, snacks\, and conversations that spill out long after the credits roll \n\n\nSeats are limited — and once they’re gone\, they’re gone. \nReserve Your Seat
URL:https://sekndnature.com/event/420-film-society-3rd-edition-2/
LOCATION:Seknd Nature Kalk Bay\, 124 Main Road Kalk Bay\, Cape Town\, Western Cape\, 7975\, South Africa
END:VEVENT
END:VCALENDAR